Workbook
Name _IIT01: 协调曲线图!$Y$9
Name _IIT02: 协调曲线图!$Y$16
Name _IIT03: 协调曲线图!$Y$23
Name _IIT04: 协调曲线图!$Y$30
Name _IIT05: 协调曲线图!$Y$37
Name _IIT06: 协调曲线图!$Y$44
Name _Tc1: ROUND((cokva1*(L百分1/100))/(SQRT(3)*covt1*一次側1),2)
Name _Tc2: ROUND((cokva2*(L百分2/100))/(SQRT(3)*covt2*一次側2),2)
Name _Tc3: ROUND((cokva3*(L百分3/100))/(SQRT(3)*covt3*一次側3),2)
Name _Tc4: ROUND((cokva4*(L百分4/100))/(SQRT(3)*covt4*一次側4),2)
Name _Tc5: ROUND((cokva5*(L百分5/100))/(SQRT(3)*covt5*一次側5),2)
Name _Tc6: ROUND((cokva6*(L百分6/100))/(SQRT(3)*covt6*一次側6),2)
Name _Ts01: 协调曲线图!$Y$7
Name _Ts02: 协调曲线图!$Y$14
Name _Ts03: 协调曲线图!$Y$21
Name _Ts04: 协调曲线图!$Y$28
Name _Ts05: 协调曲线图!$Y$35
Name _Ts06: 协调曲线图!$Y$42
Name _Ts1: 协调曲线图!$V$7
Name _Ts2: 协调曲线图!$V$14
Name _Ts3: 协调曲线图!$V$21
Name _Ts4: 协调曲线图!$V$28
Name _Ts5: 协调曲线图!$V$35
Name _Ts6: 协调曲线图!$V$42
Name alfa01: 曲線Lever計算!$D$6
Name alfa02: 曲線Lever計算!$I$6
Name alfa03: 曲線Lever計算!$N$6
Name alfa04: 曲線Lever計算!$S$6
Name alfa05: 曲線Lever計算!$X$6
Name alfa06: 曲線Lever計算!$AC$6
Name alfa1: 曲線Lever計算!$D$5
Name alfa2: 曲線Lever計算!$I$5
Name alfa3: 曲線Lever計算!$N$5
Name alfa4: 曲線Lever計算!$S$5
Name alfa5: 曲線Lever計算!$X$5
Name alfa6: 曲線Lever計算!$AC$5
Name beta01: 曲線Lever計算!$E$6
Name beta02: 曲線Lever計算!$J$6
Name beta03: 曲線Lever計算!$O$6
Name beta04: 曲線Lever計算!$T$6
Name beta05: 曲線Lever計算!$Y$6
Name beta06: 曲線Lever計算!$AD$6
Name beta1: 曲線Lever計算!$E$5
Name beta2: 曲線Lever計算!$J$5
Name beta3: 曲線Lever計算!$O$5
Name beta4: 曲線Lever計算!$T$5
Name beta5: 曲線Lever計算!$Y$5
Name beta6: 曲線Lever計算!$AD$5
Name cokva1: 协调曲线图!$T$5
Name cokva2: 协调曲线图!$T$12
Name cokva3: 协调曲线图!$T$19
Name cokva4: 协调曲线图!$T$26
Name cokva5: 协调曲线图!$T$33
Name cokva6: 协调曲线图!$T$40
Name coname1: 协调曲线图!$S$5
Name coname2: 协调曲线图!$S$12
Name coname3: 协调曲线图!$S$19
Name coname4: 协调曲线图!$S$26
Name coname5: 协调曲线图!$S$33
Name coname6: 协调曲线图!$S$40

Sheet 曲線Lever計算
B2: 反時線01 | G2: 反時線02 | L2: 反時線03 | Q2: 反時線04 | V2: 反時線05 | AA2: 反時線06
B3: 所選用曲線： | D3: =协调曲线图!S7 -> SIT | E3: =协调曲线图!W9 -> SIT | G3: 所選用曲線： | I3: =协调曲线图!S14 -> EIT | J3: =协调曲线图!W16 -> SIT | L3: 所選用曲線： | N3: =协调曲线图!S21 -> EIT | O3: =协调曲线图!W23 -> SIT | Q3: 所選用曲線： | S3: =协调曲线图!S28 -> EIT | T3: =协调曲线图!W30 -> SIT | V3: 所選用曲線： | X3: =协调曲线图!S35 -> EIT | Y3: =协调曲线图!W37 -> SIT | AA3: 所選用曲線： | AC3: =协调曲线图!S42 -> EIT | AD3: =协调曲线图!W44 -> SIT
B4: k | C4: T | D4: α | E4: β | G4: k | H4: T | I4: α | J4: β | L4: k | M4: T | N4: α | O4: β | Q4: k | R4: T | S4: α | T4: β | V4: k | W4: T | X4: α | Y4: β | AA4: k | AB4: T | AC4: α | AD4: β
B5: =IF($D3="EIT",80,IF($D3="SIT",0.14,IF($D3="VIT",13.5,IF($D3="UIT",315.2,)))) -> 0.14 | C5: =Lever1 -> 0.1 | D5: =IF($D3="EIT",2,IF($D3="SIT",0.02,IF($D3="VIT",1,IF($D3="UIT",2.5,)))) -> 0.02 | E5: =IF($D3="EIT",0.808,IF($D3="SIT",2.97,IF($D3="VIT",1.5,IF($D3="UIT",1,)))) -> 2.97 | G5: =IF($I3="EIT",80,IF($I3="SIT",0.14,IF($I3="VIT",13.5,IF($I3="UIT",315.2,)))) -> 80 | H5: =Lever2 -> 0.1 | I5: =IF($I3="EIT",2,IF($I3="SIT",0.02,IF($I3="VIT",1,IF($I3="UIT",2.5,)))) -> 2 | J5: =IF($I3="EIT",0.808,IF($I3="SIT",2.97,IF($I3="VIT",1.5,IF($I3="UIT",1,)))) -> 0.808 | L5: =IF($N3="EIT",80,IF($N3="SIT",0.14,IF($N3="VIT",13.5,IF($N3="UIT",315.2,)))) -> 80 | M5: =Lever3 -> 0.1 | N5: =IF($N3="EIT",2,IF($N3="SIT",0.02,IF($N3="VIT",1,IF($N3="UIT",2.5,)))) -> 2 | O5: =IF($N3="EIT",0.808,IF($N3="SIT",2.97,IF($N3="VIT",1.5,IF($N3="UIT",1,)))) -> 0.808 | Q5: =IF($S3="EIT",80,IF($S3="SIT",0.14,IF($S3="VIT",13.5,IF($S3="UIT",315.2,)))) -> 80 | R5: =Lever4 -> 0.1 | S5: =IF($S3="EIT",2,IF($S3="SIT",0.02,IF($S3="VIT",1,IF($S3="UIT",2.5,)))) -> 2 | T5: =IF($S3="EIT",0.808,IF($S3="SIT",2.97,IF($S3="VIT",1.5,IF($S3="UIT",1,)))) -> 0.808 | V5: =IF($X3="EIT",80,IF($X3="SIT",0.14,IF($X3="VIT",13.5,IF($X3="UIT",315.2,)))) -> 80 | W5: =Lever5 -> 0.1 | X5: =IF($X3="EIT",2,IF($X3="SIT",0.02,IF($X3="VIT",1,IF($X3="UIT",2.5,)))) -> 2 | Y5: =IF($X3="EIT",0.808,IF($X3="SIT",2.97,IF($X3="VIT",1.5,IF($X3="UIT",1,)))) -> 0.808 | AA5: =IF($AC3="EIT",80,IF($AC3="SIT",0.14,IF($AC3="VIT",13.5,IF($AC3="UIT",315.2,)))) -> 80 | AB5: =Lever6 -> 0.1 | AC5: =IF($AC3="EIT",2,IF($AC3="SIT",0.02,IF($AC3="VIT",1,IF($AC3="UIT",2.5,)))) -> 2 | AD5: =IF($AC3="EIT",0.808,IF($AC3="SIT",2.97,IF($AC3="VIT",1.5,IF($AC3="UIT",1,)))) -> 0.808
B6: =IF($E3="EIT",80,IF($E3="SIT",0.14,IF($E3="VIT",13.5,IF($E3="UIT",315.2,)))) -> 0.14 | C6: =t0one -> 0.5 | D6: =IF($E3="EIT",2,IF($E3="SIT",0.02,IF($E3="VIT",1,IF($E3="UIT",2.5,)))) -> 0.02 | E6: =IF($E3="EIT",0.808,IF($E3="SIT",2.97,IF($E3="VIT",1.5,IF($E3="UIT",1,)))) -> 2.97 | G6: =IF($J3="EIT",80,IF($J3="SIT",0.14,IF($J3="VIT",13.5,IF($J3="UIT",315.2,)))) -> 0.14 | H6: =t0two -> 0.7 | I6: =IF($J3="EIT",2,IF($J3="SIT",0.02,IF($J3="VIT",1,IF($J3="UIT",2.5,)))) -> 0.02 | J6: =IF($J3="EIT",0.808,IF($J3="SIT",2.97,IF($J3="VIT",1.5,IF($J3="UIT",1,)))) -> 2.97 | L6: =IF($O3="EIT",80,IF($O3="SIT",0.14,IF($O3="VIT",13.5,IF($O3="UIT",315.2,)))) -> 0.14 | M6: =t0three -> 0.9 | N6: =IF($O3="EIT",2,IF($O3="SIT",0.02,IF($O3="VIT",1,IF($O3="UIT",2.5,)))) -> 0.02 | O6: =IF($O3="EIT",0.808,IF($O3="SIT",2.97,IF($O3="VIT",1.5,IF($O3="UIT",1,)))) -> 2.97 | Q6: =IF($T3="EIT",80,IF($T3="SIT",0.14,IF($T3="VIT",13.5,IF($T3="UIT",315.2,)))) -> 0.14 | R6: =t0four -> 1.1 | S6: =IF($T3="EIT",2,IF($T3="SIT",0.02,IF($T3="VIT",1,IF($T3="UIT",2.5,)))) -> 0.02 | T6: =IF($T3="EIT",0.808,IF($T3="SIT",2.97,IF($T3="VIT",1.5,IF($T3="UIT",1,)))) -> 2.97 | V6: =IF($Y3="EIT",80,IF($Y3="SIT",0.14,IF($Y3="VIT",13.5,IF($Y3="UIT",315.2,)))) -> 0.14 | W6: =t0five -> 1.3 | X6: =IF($Y3="EIT",2,IF($Y3="SIT",0.02,IF($Y3="VIT",1,IF($Y3="UIT",2.5,)))) -> 0.02 | Y6: =IF($Y3="EIT",0.808,IF($Y3="SIT",2.97,IF($Y3="VIT",1.5,IF($Y3="UIT",1,)))) -> 2.97 | AA6: =IF($AD3="EIT",80,IF($AD3="SIT",0.14,IF($AD3="VIT",13.5,IF($AD3="UIT",315.2,)))) -> 0.14 | AB6: =t0six -> 1.6 | AC6: =IF($AD3="EIT",2,IF($AD3="SIT",0.02,IF($AD3="VIT",1,IF($AD3="UIT",2.5,)))) -> 0.02 | AD6: =IF($AD3="EIT",0.808,IF($AD3="SIT",2.97,IF($AD3="VIT",1.5,IF($AD3="UIT",1,)))) -> 2.97
A7: I/Is | B7: td(I) | C7: Lco-td(I) | D7: I(Co) | E7: I(Lco) | G7: td(I) | H7: Lco-td(I) | I7: I(Co) | J7: I(Lco) | L7: td(I) | M7: Lco-td(I) | N7: I(Co) | O7: I(Lco) | Q7: td(I) | R7: Lco-td(I) | S7: I(Co) | T7: I(Lco) | V7: td(I) | W7: Lco-td(I) | X7: I(Co) | Y7: I(Lco) | AA7: td(I) | AB7: Lco-td(I) | AC7: I(Co) | AD7: I(Lco)
A8: 1.2 | B8: =IF((kone/((POWER($A8,alfa1))-1)*(tone/beta1))>瞬跳時間1,kone/((POWER($A8,alfa1))-1)*(tone/beta1),瞬跳時間1) -> 1.2903619 | C8: =IF(协调曲线图!$S$8="是，LCO绘图",IF((k0one/((POWER($A8,alfa01))-1)*(t0one/beta01))>Lco瞬跳時間1,k0one/((POWER($A8,alfa01))-1)*(t0one/beta01),Lco瞬跳時間1)," ") -> 6.4518093 | D8: =IF(Isone*$A8>=瞬跳電流1,瞬跳電流1,Isone*$A8)/(covb1/covt1) -> 38.4 | E8: =IF(Is0one*$A8>=Lco瞬跳電流1,Lco瞬跳電流1,Is0one*$A8)/(covb1/covt1) -> 18 | G8: =IF((ktwo/((POWER($A8,alfa2))-1)*(ttwo/beta2))>瞬跳時間2,ktwo/((POWER($A8,alfa2))-1)*(ttwo/beta2),瞬跳時間2) -> 22.50225 | H8: =IF(协调曲线图!$S$15="是，LCO绘图",IF((k0two/((POWER($A8,alfa02))-1)*(t0two/beta02))>Lco瞬跳時間2,k0two/((POWER($A8,alfa02))-1)*(t0two/beta02),Lco瞬跳時間2)," ") -> 9.032533 | I8: =IF(Istwo*$A8>=瞬跳電流2,瞬跳電流2,Istwo*$A8)/(covb2/covt2) -> 72 | J8: =IF(Is0two*$A8>=Lco瞬跳電流2,Lco瞬跳電流2,Is0two*$A8)/(covb2/covt2) -> 18 | L8: =IF((kthree/((POWER($A8,alfa3))-1)*(tthree/beta3))>瞬跳時間3,kthree/((POWER($A8,alfa3))-1)*(tthree/beta3),瞬跳時間3) -> 22.50225 | M8: =IF(协调曲线图!$S$22="是，LCO绘图",IF((k0three/((POWER($A8,alfa03))-1)*(t0three/beta03))>Lco瞬跳時間3,k0three/((POWER($A8,alfa03))-1)*(t0three/beta03),Lco瞬跳時間3)," ") -> 11.613257 | N8: =IF(Isthree*$A8>=瞬跳電流3,瞬跳電流3,Isthree*$A8)/(covb3/covt3) -> 168 | O8: =IF(Is0three*$A8>=Lco瞬跳電流3,Lco瞬跳電流3,Is0three*$A8)/(covb3/covt3) -> 18 | Q8: =IF((kfour/((POWER($A8,alfa4))-1)*(tfour/beta4))>瞬跳時間4,kfour/((POWER($A8,alfa4))-1)*(tfour/beta4),瞬跳時間4) -> 22.50225 | R8: =IF(协调曲线图!$S$29="是，LCO绘图",IF((k0four/((POWER($A8,alfa04))-1)*(t0four/beta04))>Lco瞬跳時間4,k0four/((POWER($A8,alfa04))-1)*(t0four/beta04),Lco瞬跳時間4)," ") -> 14.19398 | S8: =IF(Isfour*$A8>=瞬跳電流4,瞬跳電流4,Isfour*$A8)/(covb4/covt4) -> 264 | T8: =IF(Is0four*$A8>=Lco瞬跳電流4,Lco瞬跳電流4,Is0four*$A8)/(covb4/covt4) -> 18 | V8: =IF((kfive/((POWER($A8,alfa5))-1)*(tfive/beta5))>瞬跳時間5,kfive/((POWER($A8,alfa5))-1)*(tfive/beta5),瞬跳時間5) -> 22.50225 | W8: =IF(协调曲线图!$S$36="是，LCO绘图",IF((k0five/((POWER($A8,alfa05))-1)*(t0five/beta05))>Lco瞬跳時間5,k0five/((POWER($A8,alfa05))-1)*(t0five/beta05),Lco瞬跳時間5)," ") -> 16.774704 | X8: =IF(Isfive*$A8>=瞬跳電流5,瞬跳電流5,Isfive*$A8)/(covb5/covt5) -> 456 | Y8: =IF(Is0five*$A8>=Lco瞬跳電流5,Lco瞬跳電流5,Is0five*$A8)/(covb5/covt5) -> 18 | AA8: =IF((ksix/((POWER($A8,alfa6))-1)*(tsix/beta6))>瞬跳時間6,ksix/((POWER($A8,alfa6))-1)*(tsix/beta6),瞬跳時間6) -> 22.50225 | AB8: =IF(协调曲线图!$S$43="是，LCO绘图",IF((k0six/((POWER($A8,alfa06))-1)*(t0six/beta06))>Lco瞬跳時間6,k0six/((POWER($A8,alfa06))-1)*(t0six/beta06),Lco瞬跳時間6)," ") -> 20.64579 | AC8: =IF(Issix*$A8>=瞬跳電流6,瞬跳電流6,Issix*$A8)/(covb6/covt6) -> 600 | AD8: =IF(Is0six*$A8>=Lco瞬跳電流6,Lco瞬跳電流6,Is0six*$A8)/(covb6/covt6) -> 36
A9: 2 | B9: =IF((kone/((POWER($A9,alfa1))-1)*(tone/beta1))>瞬跳時間1,kone/((POWER($A9,alfa1))-1)*(tone/beta1),瞬跳時間1) -> 0.33767768 | C9: =IF(协调曲线图!$S$8="是，LCO绘图",IF((k0one/((POWER($A9,alfa01))-1)*(t0one/beta01))>Lco瞬跳時間1,k0one/((POWER($A9,alfa01))-1)*(t0one/beta01),Lco瞬跳時間1)," ") -> 1.6883884 | D9: =IF(Isone*$A9>=瞬跳電流1,瞬跳電流1,Isone*$A9)/(covb1/covt1) -> 64 | E9: =IF(Is0one*$A9>=Lco瞬跳電流1,Lco瞬跳電流1,Is0one*$A9)/(covb1/covt1) -> 30 | G9: =IF((ktwo/((POWER($A9,alfa2))-1)*(ttwo/beta2))>瞬跳時間2,ktwo/((POWER($A9,alfa2))-1)*(ttwo/beta2),瞬跳時間2) -> 3.30033 | H9: =IF(协调曲线图!$S$15="是，LCO绘图",IF((k0two/((POWER($A9,alfa02))-1)*(t0two/beta02))>Lco瞬跳時間2,k0two/((POWER($A9,alfa02))-1)*(t0two/beta02),Lco瞬跳時間2)," ") -> 2.3637437 | I9: =IF(Istwo*$A9>=瞬跳電流2,瞬跳電流2,Istwo*$A9)/(covb2/covt2) -> 120 | J9: =IF(Is0two*$A9>=Lco瞬跳電流2,Lco瞬跳電流2,Is0two*$A9)/(covb2/covt2) -> 30 | L9: =IF((kthree/((POWER($A9,alfa3))-1)*(tthree/beta3))>瞬跳時間3,kthree/((POWER($A9,alfa3))-1)*(tthree/beta3),瞬跳時間3) -> 3.30033 | M9: =IF(协调曲线图!$S$22="是，LCO绘图",IF((k0three/((POWER($A9,alfa03))-1)*(t0three/beta03))>Lco瞬跳時間3,k0three/((POWER($A9,alfa03))-1)*(t0three/beta03),Lco瞬跳時間3)," ") -> 3.0390991 | N9: =IF(Isthree*$A9>=瞬跳電流3,瞬跳電流3,Isthree*$A9)/(covb3/covt3) -> 280 | O9: =IF(Is0three*$A9>=Lco瞬跳電流3,Lco瞬跳電流3,Is0three*$A9)/(covb3/covt3) -> 30 | Q9: =IF((kfour/((POWER($A9,alfa4))-1)*(tfour/beta4))>瞬跳時間4,kfour/((POWER($A9,alfa4))-1)*(tfour/beta4),瞬跳時間4) -> 3.30033 | R9: =IF(协调曲线图!$S$29="是，LCO绘图",IF((k0four/((POWER($A9,alfa04))-1)*(t0four/beta04))>Lco瞬跳時間4,k0four/((POWER($A9,alfa04))-1)*(t0four/beta04),Lco瞬跳時間4)," ") -> 3.7144545 | S9: =IF(Isfour*$A9>=瞬跳電流4,瞬跳電流4,Isfour*$A9)/(covb4/covt4) -> 440 | T9: =IF(Is0four*$A9>=Lco瞬跳電流4,Lco瞬跳電流4,Is0four*$A9)/(covb4/covt4) -> 30 | V9: =IF((kfive/((POWER($A9,alfa5))-1)*(tfive/beta5))>瞬跳時間5,kfive/((POWER($A9,alfa5))-1)*(tfive/beta5),瞬跳時間5) -> 3.30033 | W9: =IF(协调曲线图!$S$36="是，LCO绘图",IF((k0five/((POWER($A9,alfa05))-1)*(t0five/beta05))>Lco瞬跳時間5,k0five/((POWER($A9,alfa05))-1)*(t0five/beta05),Lco瞬跳時間5)," ") -> 4.3898098 | X9: =IF(Isfive*$A9>=瞬跳電流5,瞬跳電流5,Isfive*$A9)/(covb5/covt5) -> 760 | Y9: =IF(Is0five*$A9>=Lco瞬跳電流5,Lco瞬跳電流5,Is0five*$A9)/(covb5/covt5) -> 30 | AA9: =IF((ksix/((POWER($A9,alfa6))-1)*(tsix/beta6))>瞬跳時間6,ksix/((POWER($A9,alfa6))-1)*(tsix/beta6),瞬跳時間6) -> 3.30033 | AB9: =IF(协调曲线图!$S$43="是，LCO绘图",IF((k0six/((POWER($A9,alfa06))-1)*(t0six/beta06))>Lco瞬跳時間6,k0six/((POWER($A9,alfa06))-1)*(t0six/beta06),Lco瞬跳時間6)," ") -> 5.4028428 | AC9: =IF(Issix*$A9>=瞬跳電流6,瞬跳電流6,Issix*$A9)/(covb6/covt6) -> 1000 | AD9: =IF(Is0six*$A9>=Lco瞬跳電流6,Lco瞬跳電流6,Is0six*$A9)/(covb6/covt6) -> 60
A10: 3 | B10: =IF((kone/((POWER($A10,alfa1))-1)*(tone/beta1))>瞬跳時間1,kone/((POWER($A10,alfa1))-1)*(tone/beta1),瞬跳時間1) -> 0.21218623 | C10: =IF(协调曲线图!$S$8="是，LCO绘图",IF((k0one/((POWER($A10,alfa01))-1)*(t0one/beta01))>Lco瞬跳時間1,k0one/((POWER($A10,alfa01))-1)*(t0one/beta01),Lco瞬跳時間1)," ") -> 1.0609311 | D10: =IF(Isone*$A10>=瞬跳電流1,瞬跳電流1,Isone*$A10)/(covb1/covt1) -> 96 | E10: =IF(Is0one*$A10>=Lco瞬跳電流1,Lco瞬跳電流1,Is0one*$A10)/(covb1/covt1) -> 45 | G10: =IF((ktwo/((POWER($A10,alfa2))-1)*(ttwo/beta2))>瞬跳時間2,ktwo/((POWER($A10,alfa2))-1)*(ttwo/beta2),瞬跳時間2) -> 1.2376238 | H10: =IF(协调曲线图!$S$15="是，LCO绘图",IF((k0two/((POWER($A10,alfa02))-1)*(t0two/beta02))>Lco瞬跳時間2,k0two/((POWER($A10,alfa02))-1)*(t0two/beta02),Lco瞬跳時間2)," ") -> 1.4853036 | I10: =IF(Istwo*$A10>=瞬跳電流2,瞬跳電流2,Istwo*$A10)/(covb2/covt2) -> 180 | J10: =IF(Is0two*$A10>=Lco瞬跳電流2,Lco瞬跳電流2,Is0two*$A10)/(covb2/covt2) -> 45 | L10: =IF((kthree/((POWER($A10,alfa3))-1)*(tthree/beta3))>瞬跳時間3,kthree/((POWER($A10,alfa3))-1)*(tthree/beta3),瞬跳時間3) -> 1.2376238 | M10: =IF(协调曲线图!$S$22="是，LCO绘图",IF((k0three/((POWER($A10,alfa03))-1)*(t0three/beta03))>Lco瞬跳時間3,k0three/((POWER($A10,alfa03))-1)*(t0three/beta03),Lco瞬跳時間3)," ") -> 1.909676 | N10: =IF(Isthree*$A10>=瞬跳電流3,瞬跳電流3,Isthree*$A10)/(covb3/covt3) -> 420 | O10: =IF(Is0three*$A10>=Lco瞬跳電流3,Lco瞬跳電流3,Is0three*$A10)/(covb3/covt3) -> 45 | Q10: =IF((kfour/((POWER($A10,alfa4))-1)*(tfour/beta4))>瞬跳時間4,kfour/((POWER($A10,alfa4))-1)*(tfour/beta4),瞬跳時間4) -> 1.2376238 | R10: =IF(协调曲线图!$S$29="是，LCO绘图",IF((k0four/((POWER($A10,alfa04))-1)*(t0four/beta04))>Lco瞬跳時間4,k0four/((POWER($A10,alfa04))-1)*(t0four/beta04),Lco瞬跳時間4)," ") -> 2.3340485 | S10: =IF(Isfour*$A10>=瞬跳電流4,瞬跳電流4,Isfour*$A10)/(covb4/covt4) -> 660 | T10: =IF(Is0four*$A10>=Lco瞬跳電流4,Lco瞬跳電流4,Is0four*$A10)/(covb4/covt4) -> 45 | V10: =IF((kfive/((POWER($A10,alfa5))-1)*(tfive/beta5))>瞬跳時間5,kfive/((POWER($A10,alfa5))-1)*(tfive/beta5),瞬跳時間5) -> 1.2376238 | W10: =IF(协调曲线图!$S$36="是，LCO绘图",IF((k0five/((POWER($A10,alfa05))-1)*(t0five/beta05))>Lco瞬跳時間5,k0five/((POWER($A10,alfa05))-1)*(t0five/beta05),Lco瞬跳時間5)," ") -> 2.7584209 | X10: =IF(Isfive*$A10>=瞬跳電流5,瞬跳電流5,Isfive*$A10)/(covb5/covt5) -> 1140 | Y10: =IF(Is0five*$A10>=Lco瞬跳電流5,Lco瞬跳電流5,Is0five*$A10)/(covb5/covt5) -> 45 | AA10: =IF((ksix/((POWER($A10,alfa6))-1)*(tsix/beta6))>瞬跳時間6,ksix/((POWER($A10,alfa6))-1)*(tsix/beta6),瞬跳時間6) -> 1.2376238 | AB10: =IF(协调曲线图!$S$43="是，LCO绘图",IF((k0six/((POWER($A10,alfa06))-1)*(t0six/beta06))>Lco瞬跳時間6,k0six/((POWER($A10,alfa06))-1)*(t0six/beta06),Lco瞬跳時間6)," ") -> 3.3949796 | AC10: =IF(Issix*$A10>=瞬跳電流6,瞬跳電流6,Issix*$A10)/(covb6/covt6) -> 1500 | AD10: =IF(Is0six*$A10>=Lco瞬跳電流6,Lco瞬跳電流6,Is0six*$A10)/(covb6/covt6) -> 90
A11: 4 | B11: =IF((kone/((POWER($A11,alfa1))-1)*(tone/beta1))>瞬跳時間1,kone/((POWER($A11,alfa1))-1)*(tone/beta1),瞬跳時間1) -> 0.16766856 | C11: =IF(协调曲线图!$S$8="是，LCO绘图",IF((k0one/((POWER($A11,alfa01))-1)*(t0one/beta01))>Lco瞬跳時間1,k0one/((POWER($A11,alfa01))-1)*(t0one/beta01),Lco瞬跳時間1)," ") -> 0.83834278 | D11: =IF(Isone*$A11>=瞬跳電流1,瞬跳電流1,Isone*$A11)/(covb1/covt1) -> 128 | E11: =IF(Is0one*$A11>=Lco瞬跳電流1,Lco瞬跳電流1,Is0one*$A11)/(covb1/covt1) -> 60 | G11: =IF((ktwo/((POWER($A11,alfa2))-1)*(ttwo/beta2))>瞬跳時間2,ktwo/((POWER($A11,alfa2))-1)*(ttwo/beta2),瞬跳時間2) -> 0.66006601 | H11: =IF(协调曲线图!$S$15="是，LCO绘图",IF((k0two/((POWER($A11,alfa02))-1)*(t0two/beta02))>Lco瞬跳時間2,k0two/((POWER($A11,alfa02))-1)*(t0two/beta02),Lco瞬跳時間2)," ") -> 1.1736799 | I11: =IF(Istwo*$A11>=瞬跳電流2,瞬跳電流2,Istwo*$A11)/(covb2/covt2) -> 240 | J11: =IF(Is0two*$A11>=Lco瞬跳電流2,Lco瞬跳電流2,Is0two*$A11)/(covb2/covt2) -> 60 | L11: =IF((kthree/((POWER($A11,alfa3))-1)*(tthree/beta3))>瞬跳時間3,kthree/((POWER($A11,alfa3))-1)*(tthree/beta3),瞬跳時間3) -> 0.66006601 | M11: =IF(协调曲线图!$S$22="是，LCO绘图",IF((k0three/((POWER($A11,alfa03))-1)*(t0three/beta03))>Lco瞬跳時間3,k0three/((POWER($A11,alfa03))-1)*(t0three/beta03),Lco瞬跳時間3)," ") -> 1.509017 | N11: =IF(Isthree*$A11>=瞬跳電流3,瞬跳電流3,Isthree*$A11)/(covb3/covt3) -> 560 | O11: =IF(Is0three*$A11>=Lco瞬跳電流3,Lco瞬跳電流3,Is0three*$A11)/(covb3/covt3) -> 60 | Q11: =IF((kfour/((POWER($A11,alfa4))-1)*(tfour/beta4))>瞬跳時間4,kfour/((POWER($A11,alfa4))-1)*(tfour/beta4),瞬跳時間4) -> 0.66006601 | R11: =IF(协调曲线图!$S$29="是，LCO绘图",IF((k0four/((POWER($A11,alfa04))-1)*(t0four/beta04))>Lco瞬跳時間4,k0four/((POWER($A11,alfa04))-1)*(t0four/beta04),Lco瞬跳時間4)," ") -> 1.8443541 | S11: =IF(Isfour*$A11>=瞬跳電流4,瞬跳電流4,Isfour*$A11)/(covb4/covt4) -> 880 | T11: =IF(Is0four*$A11>=Lco瞬跳電流4,Lco瞬跳電流4,Is0four*$A11)/(covb4/covt4) -> 60 | V11: =IF((kfive/((POWER($A11,alfa5))-1)*(tfive/beta5))>瞬跳時間5,kfive/((POWER($A11,alfa5))-1)*(tfive/beta5),瞬跳時間5) -> 0.85 | W11: =IF(协调曲线图!$S$36="是，LCO绘图",IF((k0five/((POWER($A11,alfa05))-1)*(t0five/beta05))>Lco瞬跳時間5,k0five/((POWER($A11,alfa05))-1)*(t0five/beta05),Lco瞬跳時間5)," ") -> 2.1796912 | X11: =IF(Isfive*$A11>=瞬跳電流5,瞬跳電流5,Isfive*$A11)/(covb5/covt5) -> 1520 | Y11: =IF(Is0five*$A11>=Lco瞬跳電流5,Lco瞬跳電流5,Is0five*$A11)/(covb5/covt5) -> 60 | AA11: =IF((ksix/((POWER($A11,alfa6))-1)*(tsix/beta6))>瞬跳時間6,ksix/((POWER($A11,alfa6))-1)*(tsix/beta6),瞬跳時間6) -> 1.05 | AB11: =IF(协调曲线图!$S$43="是，LCO绘图",IF((k0six/((POWER($A11,alfa06))-1)*(t0six/beta06))>Lco瞬跳時間6,k0six/((POWER($A11,alfa06))-1)*(t0six/beta06),Lco瞬跳時間6)," ") -> 2.6826969 | AC11: =IF(Issix*$A11>=瞬跳電流6,瞬跳電流6,Issix*$A11)/(covb6/covt6) -> 2000 | AD11: =IF(Is0six*$A11>=Lco瞬跳電流6,Lco瞬跳電流6,Is0six*$A11)/(covb6/covt6) -> 120
A12: 5 | B12: =IF((kone/((POWER($A12,alfa1))-1)*(tone/beta1))>瞬跳時間1,kone/((POWER($A12,alfa1))-1)*(tone/beta1),瞬跳時間1) -> 0.14409832 | C12: =IF(协调曲线图!$S$8="是，LCO绘图",IF((k0one/((POWER($A12,alfa01))-1)*(t0one/beta01))>Lco瞬跳時間1,k0one/((POWER($A12,alfa01))-1)*(t0one/beta01),Lco瞬跳時間1)," ") -> 0.72049159 | D12: =IF(Isone*$A12>=瞬跳電流1,瞬跳電流1,Isone*$A12)/(covb1/covt1) -> 160 | E12: =IF(Is0one*$A12>=Lco瞬跳電流1,Lco瞬跳電流1,Is0one*$A12)/(covb1/covt1) -> 75 | G12: =IF((ktwo/((POWER($A12,alfa2))-1)*(ttwo/beta2))>瞬跳時間2,ktwo/((POWER($A12,alfa2))-1)*(ttwo/beta2),瞬跳時間2) -> 0.41254125 | H12: =IF(协调曲线图!$S$15="是，LCO绘图",IF((k0two/((POWER($A12,alfa02))-1)*(t0two/beta02))>Lco瞬跳時間2,k0two/((POWER($A12,alfa02))-1)*(t0two/beta02),Lco瞬跳時間2)," ") -> 1.0086882 | I12: =IF(Istwo*$A12>=瞬跳電流2,瞬跳電流2,Istwo*$A12)/(covb2/covt2) -> 300 | J12: =IF(Is0two*$A12>=Lco瞬跳電流2,Lco瞬跳電流2,Is0two*$A12)/(covb2/covt2) -> 75 | L12: =IF((kthree/((POWER($A12,alfa3))-1)*(tthree/beta3))>瞬跳時間3,kthree/((POWER($A12,alfa3))-1)*(tthree/beta3),瞬跳時間3) -> 0.45 | M12: =IF(协调曲线图!$S$22="是，LCO绘图",IF((k0three/((POWER($A12,alfa03))-1)*(t0three/beta03))>Lco瞬跳時間3,k0three/((POWER($A12,alfa03))-1)*(t0three/beta03),Lco瞬跳時間3)," ") -> 1.2968849 | N12: =IF(Isthree*$A12>=瞬跳電流3,瞬跳電流3,Isthree*$A12)/(covb3/covt3) -> 700 | O12: =IF(Is0three*$A12>=Lco瞬跳電流3,Lco瞬跳電流3,Is0three*$A12)/(covb3/covt3) -> 75 | Q12: =IF((kfour/((POWER($A12,alfa4))-1)*(tfour/beta4))>瞬跳時間4,kfour/((POWER($A12,alfa4))-1)*(tfour/beta4),瞬跳時間4) -> 0.65 | R12: =IF(协调曲线图!$S$29="是，LCO绘图",IF((k0four/((POWER($A12,alfa04))-1)*(t0four/beta04))>Lco瞬跳時間4,k0four/((POWER($A12,alfa04))-1)*(t0four/beta04),Lco瞬跳時間4)," ") -> 1.5850815 | S12: =IF(Isfour*$A12>=瞬跳電流4,瞬跳電流4,Isfour*$A12)/(covb4/covt4) -> 1100 | T12: =IF(Is0four*$A12>=Lco瞬跳電流4,Lco瞬跳電流4,Is0four*$A12)/(covb4/covt4) -> 75 | V12: =IF((kfive/((POWER($A12,alfa5))-1)*(tfive/beta5))>瞬跳時間5,kfive/((POWER($A12,alfa5))-1)*(tfive/beta5),瞬跳時間5) -> 0.85 | W12: =IF(协调曲线图!$S$36="是，LCO绘图",IF((k0five/((POWER($A12,alfa05))-1)*(t0five/beta05))>Lco瞬跳時間5,k0five/((POWER($A12,alfa05))-1)*(t0five/beta05),Lco瞬跳時間5)," ") -> 1.8732781 | X12: =IF(Isfive*$A12>=瞬跳電流5,瞬跳電流5,Isfive*$A12)/(covb5/covt5) -> 1900 | Y12: =IF(Is0five*$A12>=Lco瞬跳電流5,Lco瞬跳電流5,Is0five*$A12)/(covb5/covt5) -> 75 | AA12: =IF((ksix/((POWER($A12,alfa6))-1)*(tsix/beta6))>瞬跳時間6,ksix/((POWER($A12,alfa6))-1)*(tsix/beta6),瞬跳時間6) -> 1.05 | AB12: =IF(协调曲线图!$S$43="是，LCO绘图",IF((k0six/((POWER($A12,alfa06))-1)*(t0six/beta06))>Lco瞬跳時間6,k0six/((POWER($A12,alfa06))-1)*(t0six/beta06),Lco瞬跳時間6)," ") -> 2.3055731 | AC12: =IF(Issix*$A12>=瞬跳電流6,瞬跳電流6,Issix*$A12)/(covb6/covt6) -> 2500 | AD12: =IF(Is0six*$A12>=Lco瞬跳電流6,Lco瞬跳電流6,Is0six*$A12)/(covb6/covt6) -> 150
A13: 6 | B13: =IF((kone/((POWER($A13,alfa1))-1)*(tone/beta1))>瞬跳時間1,kone/((POWER($A13,alfa1))-1)*(tone/beta1),瞬跳時間1) -> 0.1291984 | C13: =IF(协调曲线图!$S$8="是，LCO绘图",IF((k0one/((POWER($A13,alfa01))-1)*(t0one/beta01))>Lco瞬跳時間1,k0one/((POWER($A13,alfa01))-1)*(t0one/beta01),Lco瞬跳時間1)," ") -> 0.645992 | D13: =IF(Isone*$A13>=瞬跳電流1,瞬跳電流1,Isone*$A13)/(covb1/covt1) -> 192 | E13: =IF(Is0one*$A13>=Lco瞬跳電流1,Lco瞬跳電流1,Is0one*$A13)/(covb1/covt1) -> 90 | G13: =IF((ktwo/((POWER($A13,alfa2))-1)*(ttwo/beta2))>瞬跳時間2,ktwo/((POWER($A13,alfa2))-1)*(ttwo/beta2),瞬跳時間2) -> 0.28288543 | H13: =IF(协调曲线图!$S$15="是，LCO绘图",IF((k0two/((POWER($A13,alfa02))-1)*(t0two/beta02))>Lco瞬跳時間2,k0two/((POWER($A13,alfa02))-1)*(t0two/beta02),Lco瞬跳時間2)," ") -> 0.90438879 | I13: =IF(Istwo*$A13>=瞬跳電流2,瞬跳電流2,Istwo*$A13)/(covb2/covt2) -> 360 | J13: =IF(Is0two*$A13>=Lco瞬跳電流2,Lco瞬跳電流2,Is0two*$A13)/(covb2/covt2) -> 90 | L13: =IF((kthree/((POWER($A13,alfa3))-1)*(tthree/beta3))>瞬跳時間3,kthree/((POWER($A13,alfa3))-1)*(tthree/beta3),瞬跳時間3) -> 0.45 | M13: =IF(协调曲线图!$S$22="是，LCO绘图",IF((k0three/((POWER($A13,alfa03))-1)*(t0three/beta03))>Lco瞬跳時間3,k0three/((POWER($A13,alfa03))-1)*(t0three/beta03),Lco瞬跳時間3)," ") -> 1.1627856 | N13: =IF(Isthree*$A13>=瞬跳電流3,瞬跳電流3,Isthree*$A13)/(covb3/covt3) -> 840 | O13: =IF(Is0three*$A13>=Lco瞬跳電流3,Lco瞬跳電流3,Is0three*$A13)/(covb3/covt3) -> 90 | Q13: =IF((kfour/((POWER($A13,alfa4))-1)*(tfour/beta4))>瞬跳時間4,kfour/((POWER($A13,alfa4))-1)*(tfour/beta4),瞬跳時間4) -> 0.65 | R13: =IF(协调曲线图!$S$29="是，LCO绘图",IF((k0four/((POWER($A13,alfa04))-1)*(t0four/beta04))>Lco瞬跳時間4,k0four/((POWER($A13,alfa04))-1)*(t0four/beta04),Lco瞬跳時間4)," ") -> 1.4211824 | S13: =IF(Isfour*$A13>=瞬跳電流4,瞬跳電流4,Isfour*$A13)/(covb4/covt4) -> 1320 | T13: =IF(Is0four*$A13>=Lco瞬跳電流4,Lco瞬跳電流4,Is0four*$A13)/(covb4/covt4) -> 90 | V13: =IF((kfive/((POWER($A13,alfa5))-1)*(tfive/beta5))>瞬跳時間5,kfive/((POWER($A13,alfa5))-1)*(tfive/beta5),瞬跳時間5) -> 0.85 | W13: =IF(协调曲线图!$S$36="是，LCO绘图",IF((k0five/((POWER($A13,alfa05))-1)*(t0five/beta05))>Lco瞬跳時間5,k0five/((POWER($A13,alfa05))-1)*(t0five/beta05),Lco瞬跳時間5)," ") -> 1.6795792 | X13: =IF(Isfive*$A13>=瞬跳電流5,瞬跳電流5,Isfive*$A13)/(covb5/covt5) -> 2280 | Y13: =IF(Is0five*$A13>=Lco瞬跳電流5,Lco瞬跳電流5,Is0five*$A13)/(covb5/covt5) -> 90 | AA13: =IF((ksix/((POWER($A13,alfa6))-1)*(tsix/beta6))>瞬跳時間6,ksix/((POWER($A13,alfa6))-1)*(tsix/beta6),瞬跳時間6) -> 1.05 | AB13: =IF(协调曲线图!$S$43="是，LCO绘图",IF((k0six/((POWER($A13,alfa06))-1)*(t0six/beta06))>Lco瞬跳時間6,k0six/((POWER($A13,alfa06))-1)*(t0six/beta06),Lco瞬跳時間6)," ") -> 2.0671744 | AC13: =IF(Issix*$A13>=瞬跳電流6,瞬跳電流6,Issix*$A13)/(covb6/covt6) -> 3000 | AD13: =IF(Is0six*$A13>=Lco瞬跳電流6,Lco瞬跳電流6,Is0six*$A13)/(covb6/covt6) -> 180
A14: 7 | B14: =IF((kone/((POWER($A14,alfa1))-1)*(tone/beta1))>瞬跳時間1,kone/((POWER($A14,alfa1))-1)*(tone/beta1),瞬跳時間1) -> 0.11877921 | C14: =IF(协调曲线图!$S$8="是，LCO绘图",IF((k0one/((POWER($A14,alfa01))-1)*(t0one/beta01))>Lco瞬跳時間1,k0one/((POWER($A14,alfa01))-1)*(t0one/beta01),Lco瞬跳時間1)," ") -> 0.59389603 | D14: =IF(Isone*$A14>=瞬跳電流1,瞬跳電流1,Isone*$A14)/(covb1/covt1) -> 224 | E14: =IF(Is0one*$A14>=Lco瞬跳電流1,Lco瞬跳電流1,Is0one*$A14)/(covb1/covt1) -> 105 | G14: =IF((ktwo/((POWER($A14,alfa2))-1)*(ttwo/beta2))>瞬跳時間2,ktwo/((POWER($A14,alfa2))-1)*(ttwo/beta2),瞬跳時間2) -> 0.25 | H14: =IF(协调曲线图!$S$15="是，LCO绘图",IF((k0two/((POWER($A14,alfa02))-1)*(t0two/beta02))>Lco瞬跳時間2,k0two/((POWER($A14,alfa02))-1)*(t0two/beta02),Lco瞬跳時間2)," ") -> 0.83145444 | I14: =IF(Istwo*$A14>=瞬跳電流2,瞬跳電流2,Istwo*$A14)/(covb2/covt2) -> 420 | J14: =IF(Is0two*$A14>=Lco瞬跳電流2,Lco瞬跳電流2,Is0two*$A14)/(covb2/covt2) -> 105 | L14: =IF((kthree/((POWER($A14,alfa3))-1)*(tthree/beta3))>瞬跳時間3,kthree/((POWER($A14,alfa3))-1)*(tthree/beta3),瞬跳時間3) -> 0.45 | M14: =IF(协调曲线图!$S$22="是，LCO绘图",IF((k0three/((POWER($A14,alfa03))-1)*(t0three/beta03))>Lco瞬跳時間3,k0three/((POWER($A14,alfa03))-1)*(t0three/beta03),Lco瞬跳時間3)," ") -> 1.0690129 | N14: =IF(Isthree*$A14>=瞬跳電流3,瞬跳電流3,Isthree*$A14)/(covb3/covt3) -> 980 | O14: =IF(Is0three*$A14>=Lco瞬跳電流3,Lco瞬跳電流3,Is0three*$A14)/(covb3/covt3) -> 105 | Q14: =IF((kfour/((POWER($A14,alfa4))-1)*(tfour/beta4))>瞬跳時間4,kfour/((POWER($A14,alfa4))-1)*(tfour/beta4),瞬跳時間4) -> 0.65 | R14: =IF(协调曲线图!$S$29="是，LCO绘图",IF((k0four/((POWER($A14,alfa04))-1)*(t0four/beta04))>Lco瞬跳時間4,k0four/((POWER($A14,alfa04))-1)*(t0four/beta04),Lco瞬跳時間4)," ") -> 1.3065713 | S14: =IF(Isfour*$A14>=瞬跳電流4,瞬跳電流4,Isfour*$A14)/(covb4/covt4) -> 1540 | T14: =IF(Is0four*$A14>=Lco瞬跳電流4,Lco瞬跳電流4,Is0four*$A14)/(covb4/covt4) -> 105 | V14: =IF((kfive/((POWER($A14,alfa5))-1)*(tfive/beta5))>瞬跳時間5,kfive/((POWER($A14,alfa5))-1)*(tfive/beta5),瞬跳時間5) -> 0.85 | W14: =IF(协调曲线图!$S$36="是，LCO绘图",IF((k0five/((POWER($A14,alfa05))-1)*(t0five/beta05))>Lco瞬跳時間5,k0five/((POWER($A14,alfa05))-1)*(t0five/beta05),Lco瞬跳時間5)," ") -> 1.5441297 | X14: =IF(Isfive*$A14>=瞬跳電流5,瞬跳電流5,Isfive*$A14)/(covb5/covt5) -> 2660 | Y14: =IF(Is0five*$A14>=Lco瞬跳電流5,Lco瞬跳電流5,Is0five*$A14)/(covb5/covt5) -> 105 | AA14: =IF((ksix/((POWER($A14,alfa6))-1)*(tsix/beta6))>瞬跳時間6,ksix/((POWER($A14,alfa6))-1)*(tsix/beta6),瞬跳時間6) -> 1.05 | AB14: =IF(协调曲线图!$S$43="是，LCO绘图",IF((k0six/((POWER($A14,alfa06))-1)*(t0six/beta06))>Lco瞬跳時間6,k0six/((POWER($A14,alfa06))-1)*(t0six/beta06),Lco瞬跳時間6)," ") -> 1.9004673 | AC14: =IF(Issix*$A14>=瞬跳電流6,瞬跳電流6,Issix*$A14)/(covb6/covt6) -> 3500 | AD14: =IF(Is0six*$A14>=Lco瞬跳電流6,Lco瞬跳電流6,Is0six*$A14)/(covb6/covt6) -> 210
A15: 8 | B15: =IF((kone/((POWER($A15,alfa1))-1)*(tone/beta1))>瞬跳時間1,kone/((POWER($A15,alfa1))-1)*(tone/beta1),瞬跳時間1) -> 0.11100248 | C15: =IF(协调曲线图!$S$8="是，LCO绘图",IF((k0one/((POWER($A15,alfa01))-1)*(t0one/beta01))>Lco瞬跳時間1,k0one/((POWER($A15,alfa01))-1)*(t0one/beta01),Lco瞬跳時間1)," ") -> 0.55501239 | D15: =IF(Isone*$A15>=瞬跳電流1,瞬跳電流1,Isone*$A15)/(covb1/covt1) -> 256 | E15: =IF(Is0one*$A15>=Lco瞬跳電流1,Lco瞬跳電流1,Is0one*$A15)/(covb1/covt1) -> 120 | G15: =IF((ktwo/((POWER($A15,alfa2))-1)*(ttwo/beta2))>瞬跳時間2,ktwo/((POWER($A15,alfa2))-1)*(ttwo/beta2),瞬跳時間2) -> 0.25 | H15: =IF(协调曲线图!$S$15="是，LCO绘图",IF((k0two/((POWER($A15,alfa02))-1)*(t0two/beta02))>Lco瞬跳時間2,k0two/((POWER($A15,alfa02))-1)*(t0two/beta02),Lco瞬跳時間2)," ") -> 0.77701735 | I15: =IF(Istwo*$A15>=瞬跳電流2,瞬跳電流2,Istwo*$A15)/(covb2/covt2) -> 480 | J15: =IF(Is0two*$A15>=Lco瞬跳電流2,Lco瞬跳電流2,Is0two*$A15)/(covb2/covt2) -> 120 | L15: =IF((kthree/((POWER($A15,alfa3))-1)*(tthree/beta3))>瞬跳時間3,kthree/((POWER($A15,alfa3))-1)*(tthree/beta3),瞬跳時間3) -> 0.45 | M15: =IF(协调曲线图!$S$22="是，LCO绘图",IF((k0three/((POWER($A15,alfa03))-1)*(t0three/beta03))>Lco瞬跳時間3,k0three/((POWER($A15,alfa03))-1)*(t0three/beta03),Lco瞬跳時間3)," ") -> 0.99902231 | N15: =IF(Isthree*$A15>=瞬跳電流3,瞬跳電流3,Isthree*$A15)/(covb3/covt3) -> 1120 | O15: =IF(Is0three*$A15>=Lco瞬跳電流3,Lco瞬跳電流3,Is0three*$A15)/(covb3/covt3) -> 120 | Q15: =IF((kfour/((POWER($A15,alfa4))-1)*(tfour/beta4))>瞬跳時間4,kfour/((POWER($A15,alfa4))-1)*(tfour/beta4),瞬跳時間4) -> 0.65 | R15: =IF(协调曲线图!$S$29="是，LCO绘图",IF((k0four/((POWER($A15,alfa04))-1)*(t0four/beta04))>Lco瞬跳時間4,k0four/((POWER($A15,alfa04))-1)*(t0four/beta04),Lco瞬跳時間4)," ") -> 1.2210273 | S15: =IF(Isfour*$A15>=瞬跳電流4,瞬跳電流4,Isfour*$A15)/(covb4/covt4) -> 1760 | T15: =IF(Is0four*$A15>=Lco瞬跳電流4,Lco瞬跳電流4,Is0four*$A15)/(covb4/covt4) -> 120 | V15: =IF((kfive/((POWER($A15,alfa5))-1)*(tfive/beta5))>瞬跳時間5,kfive/((POWER($A15,alfa5))-1)*(tfive/beta5),瞬跳時間5) -> 0.85 | W15: =IF(协调曲线图!$S$36="是，LCO绘图",IF((k0five/((POWER($A15,alfa05))-1)*(t0five/beta05))>Lco瞬跳時間5,k0five/((POWER($A15,alfa05))-1)*(t0five/beta05),Lco瞬跳時間5)," ") -> 1.4430322 | X15: =IF(Isfive*$A15>=瞬跳電流5,瞬跳電流5,Isfive*$A15)/(covb5/covt5) -> 3000 | Y15: =IF(Is0five*$A15>=Lco瞬跳電流5,Lco瞬跳電流5,Is0five*$A15)/(covb5/covt5) -> 120 | AA15: =IF((ksix/((POWER($A15,alfa6))-1)*(tsix/beta6))>瞬跳時間6,ksix/((POWER($A15,alfa6))-1)*(tsix/beta6),瞬跳時間6) -> 1.05 | AB15: =IF(协调曲线图!$S$43="是，LCO绘图",IF((k0six/((POWER($A15,alfa06))-1)*(t0six/beta06))>Lco瞬跳時間6,k0six/((POWER($A15,alfa06))-1)*(t0six/beta06),Lco瞬跳時間6)," ") -> 1.7760397 | AC15: =IF(Issix*$A15>=瞬跳電流6,瞬跳電流6,Issix*$A15)/(covb6/covt6) -> 4000 | AD15: =IF(Is0six*$A15>=Lco瞬跳電流6,Lco瞬跳電流6,Is0six*$A15)/(covb6/covt6) -> 240
A16: 9 | B16: =IF((kone/((POWER($A16,alfa1))-1)*(tone/beta1))>瞬跳時間1,kone/((POWER($A16,alfa1))-1)*(tone/beta1),瞬跳時間1) -> 0.10492761 | C16: =IF(协调曲线图!$S$8="是，LCO绘图",IF((k0one/((POWER($A16,alfa01))-1)*(t0one/beta01))>Lco瞬跳時間1,k0one/((POWER($A16,alfa01))-1)*(t0one/beta01),Lco瞬跳時間1)," ") -> 0.52463804 | D16: =IF(Isone*$A16>=瞬跳電流1,瞬跳電流1,Isone*$A16)/(covb1/covt1) -> 288 | E16: =IF(Is0one*$A16>=Lco瞬跳電流1,Lco瞬跳電流1,Is0one*$A16)/(covb1/covt1) -> 135 | G16: =IF((ktwo/((POWER($A16,alfa2))-1)*(ttwo/beta2))>瞬跳時間2,ktwo/((POWER($A16,alfa2))-1)*(ttwo/beta2),瞬跳時間2) -> 0.25 | H16: =IF(协调曲线图!$S$15="是，LCO绘图",IF((k0two/((POWER($A16,alfa02))-1)*(t0two/beta02))>Lco瞬跳時間2,k0two/((POWER($A16,alfa02))-1)*(t0two/beta02),Lco瞬跳時間2)," ") -> 0.73449326 | I16: =IF(Istwo*$A16>=瞬跳電流2,瞬跳電流2,Istwo*$A16)/(covb2/covt2) -> 540 | J16: =IF(Is0two*$A16>=Lco瞬跳電流2,Lco瞬跳電流2,Is0two*$A16)/(covb2/covt2) -> 135 | L16: =IF((kthree/((POWER($A16,alfa3))-1)*(tthree/beta3))>瞬跳時間3,kthree/((POWER($A16,alfa3))-1)*(tthree/beta3),瞬跳時間3) -> 0.45 | M16: =IF(协调曲线图!$S$22="是，LCO绘图",IF((k0three/((POWER($A16,alfa03))-1)*(t0three/beta03))>Lco瞬跳時間3,k0three/((POWER($A16,alfa03))-1)*(t0three/beta03),Lco瞬跳時間3)," ") -> 0.94434847 | N16: =IF(Isthree*$A16>=瞬跳電流3,瞬跳電流3,Isthree*$A16)/(covb3/covt3) -> 1260 | O16: =IF(Is0three*$A16>=Lco瞬跳電流3,Lco瞬跳電流3,Is0three*$A16)/(covb3/covt3) -> 135 | Q16: =IF((kfour/((POWER($A16,alfa4))-1)*(tfour/beta4))>瞬跳時間4,kfour/((POWER($A16,alfa4))-1)*(tfour/beta4),瞬跳時間4) -> 0.65 | R16: =IF(协调曲线图!$S$29="是，LCO绘图",IF((k0four/((POWER($A16,alfa04))-1)*(t0four/beta04))>Lco瞬跳時間4,k0four/((POWER($A16,alfa04))-1)*(t0four/beta04),Lco瞬跳時間4)," ") -> 1.1542037 | S16: =IF(Isfour*$A16>=瞬跳電流4,瞬跳電流4,Isfour*$A16)/(covb4/covt4) -> 1980 | T16: =IF(Is0four*$A16>=Lco瞬跳電流4,Lco瞬跳電流4,Is0four*$A16)/(covb4/covt4) -> 135 | V16: =IF((kfive/((POWER($A16,alfa5))-1)*(tfive/beta5))>瞬跳時間5,kfive/((POWER($A16,alfa5))-1)*(tfive/beta5),瞬跳時間5) -> 0.85 | W16: =IF(协调曲线图!$S$36="是，LCO绘图",IF((k0five/((POWER($A16,alfa05))-1)*(t0five/beta05))>Lco瞬跳時間5,k0five/((POWER($A16,alfa05))-1)*(t0five/beta05),Lco瞬跳時間5)," ") -> 1.3640589 | X16: =IF(Isfive*$A16>=瞬跳電流5,瞬跳電流5,Isfive*$A16)/(covb5/covt5) -> 3000 | Y16: =IF(Is0five*$A16>=Lco瞬跳電流5,Lco瞬跳電流5,Is0five*$A16)/(covb5/covt5) -> 135 | AA16: =IF((ksix/((POWER($A16,alfa6))-1)*(tsix/beta6))>瞬跳時間6,ksix/((POWER($A16,alfa6))-1)*(tsix/beta6),瞬跳時間6) -> 1.05 | AB16: =IF(协调曲线图!$S$43="是，LCO绘图",IF((k0six/((POWER($A16,alfa06))-1)*(t0six/beta06))>Lco瞬跳時間6,k0six/((POWER($A16,alfa06))-1)*(t0six/beta06),Lco瞬跳時間6)," ") -> 1.6788417 | AC16: =IF(Issix*$A16>=瞬跳電流6,瞬跳電流6,Issix*$A16)/(covb6/covt6) -> 4500 | AD16: =IF(Is0six*$A16>=Lco瞬跳電流6,Lco瞬跳電流6,Is0six*$A16)/(covb6/covt6) -> 270
A17: 10 | B17: =IF((kone/((POWER($A17,alfa1))-1)*(tone/beta1))>瞬跳時間1,kone/((POWER($A17,alfa1))-1)*(tone/beta1),瞬跳時間1) -> 0.10002016 | C17: =IF(协调曲线图!$S$8="是，LCO绘图",IF((k0one/((POWER($A17,alfa01))-1)*(t0one/beta01))>Lco瞬跳時間1,k0one/((POWER($A17,alfa01))-1)*(t0one/beta01),Lco瞬跳時間1)," ") -> 0.50010078 | D17: =IF(Isone*$A17>=瞬跳電流1,瞬跳電流1,Isone*$A17)/(covb1/covt1) -> 320 | E17: =IF(Is0one*$A17>=Lco瞬跳電流1,Lco瞬跳電流1,Is0one*$A17)/(covb1/covt1) -> 150 | G17: =IF((ktwo/((POWER($A17,alfa2))-1)*(ttwo/beta2))>瞬跳時間2,ktwo/((POWER($A17,alfa2))-1)*(ttwo/beta2),瞬跳時間2) -> 0.25 | H17: =IF(协调曲线图!$S$15="是，LCO绘图",IF((k0two/((POWER($A17,alfa02))-1)*(t0two/beta02))>Lco瞬跳時間2,k0two/((POWER($A17,alfa02))-1)*(t0two/beta02),Lco瞬跳時間2)," ") -> 0.70014109 | I17: =IF(Istwo*$A17>=瞬跳電流2,瞬跳電流2,Istwo*$A17)/(covb2/covt2) -> 600 | J17: =IF(Is0two*$A17>=Lco瞬跳電流2,Lco瞬跳電流2,Is0two*$A17)/(covb2/covt2) -> 150 | L17: =IF((kthree/((POWER($A17,alfa3))-1)*(tthree/beta3))>瞬跳時間3,kthree/((POWER($A17,alfa3))-1)*(tthree/beta3),瞬跳時間3) -> 0.45 | M17: =IF(协调曲线图!$S$22="是，LCO绘图",IF((k0three/((POWER($A17,alfa03))-1)*(t0three/beta03))>Lco瞬跳時間3,k0three/((POWER($A17,alfa03))-1)*(t0three/beta03),Lco瞬跳時間3)," ") -> 0.9001814 | N17: =IF(Isthree*$A17>=瞬跳電流3,瞬跳電流3,Isthree*$A17)/(covb3/covt3) -> 1400 | O17: =IF(Is0three*$A17>=Lco瞬跳電流3,Lco瞬跳電流3,Is0three*$A17)/(covb3/covt3) -> 150 | Q17: =IF((kfour/((POWER($A17,alfa4))-1)*(tfour/beta4))>瞬跳時間4,kfour/((POWER($A17,alfa4))-1)*(tfour/beta4),瞬跳時間4) -> 0.65 | R17: =IF(协调曲线图!$S$29="是，LCO绘图",IF((k0four/((POWER($A17,alfa04))-1)*(t0four/beta04))>Lco瞬跳時間4,k0four/((POWER($A17,alfa04))-1)*(t0four/beta04),Lco瞬跳時間4)," ") -> 1.1002217 | S17: =IF(Isfour*$A17>=瞬跳電流4,瞬跳電流4,Isfour*$A17)/(covb4/covt4) -> 2200 | T17: =IF(Is0four*$A17>=Lco瞬跳電流4,Lco瞬跳電流4,Is0four*$A17)/(covb4/covt4) -> 150 | V17: =IF((kfive/((POWER($A17,alfa5))-1)*(tfive/beta5))>瞬跳時間5,kfive/((POWER($A17,alfa5))-1)*(tfive/beta5),瞬跳時間5) -> 0.85 | W17: =IF(协调曲线图!$S$36="是，LCO绘图",IF((k0five/((POWER($A17,alfa05))-1)*(t0five/beta05))>Lco瞬跳時間5,k0five/((POWER($A17,alfa05))-1)*(t0five/beta05),Lco瞬跳時間5)," ") -> 1.300262 | X17: =IF(Isfive*$A17>=瞬跳電流5,瞬跳電流5,Isfive*$A17)/(covb5/covt5) -> 3000 | Y17: =IF(Is0five*$A17>=Lco瞬跳電流5,Lco瞬跳電流5,Is0five*$A17)/(covb5/covt5) -> 150 | AA17: =IF((ksix/((POWER($A17,alfa6))-1)*(tsix/beta6))>瞬跳時間6,ksix/((POWER($A17,alfa6))-1)*(tsix/beta6),瞬跳時間6) -> 1.05 | AB17: =IF(协调曲线图!$S$43="是，LCO绘图",IF((k0six/((POWER($A17,alfa06))-1)*(t0six/beta06))>Lco瞬跳時間6,k0six/((POWER($A17,alfa06))-1)*(t0six/beta06),Lco瞬跳時間6)," ") -> 1.6003225 | AC17: =IF(Issix*$A17>=瞬跳電流6,瞬跳電流6,Issix*$A17)/(covb6/covt6) -> 5000 | AD17: =IF(Is0six*$A17>=Lco瞬跳電流6,Lco瞬跳電流6,Is0six*$A17)/(covb6/covt6) -> 300
A18: 11 | B18: =IF((kone/((POWER($A18,alfa1))-1)*(tone/beta1))>瞬跳時間1,kone/((POWER($A18,alfa1))-1)*(tone/beta1),瞬跳時間1) -> 0.095952398 | C18: =IF(协调曲线图!$S$8="是，LCO绘图",IF((k0one/((POWER($A18,alfa01))-1)*(t0one/beta01))>Lco瞬跳時間1,k0one/((POWER($A18,alfa01))-1)*(t0one/beta01),Lco瞬跳時間1)," ") -> 0.47976199 | D18: =IF(Isone*$A18>=瞬跳電流1,瞬跳電流1,Isone*$A18)/(covb1/covt1) -> 352 | E18: =IF(Is0one*$A18>=Lco瞬跳電流1,Lco瞬跳電流1,Is0one*$A18)/(covb1/covt1) -> 150 | G18: =IF((ktwo/((POWER($A18,alfa2))-1)*(ttwo/beta2))>瞬跳時間2,ktwo/((POWER($A18,alfa2))-1)*(ttwo/beta2),瞬跳時間2) -> 0.25 | H18: =IF(协调曲线图!$S$15="是，LCO绘图",IF((k0two/((POWER($A18,alfa02))-1)*(t0two/beta02))>Lco瞬跳時間2,k0two/((POWER($A18,alfa02))-1)*(t0two/beta02),Lco瞬跳時間2)," ") -> 0.67166679 | I18: =IF(Istwo*$A18>=瞬跳電流2,瞬跳電流2,Istwo*$A18)/(covb2/covt2) -> 660 | J18: =IF(Is0two*$A18>=Lco瞬跳電流2,Lco瞬跳電流2,Is0two*$A18)/(covb2/covt2) -> 150 | L18: =IF((kthree/((POWER($A18,alfa3))-1)*(tthree/beta3))>瞬跳時間3,kthree/((POWER($A18,alfa3))-1)*(tthree/beta3),瞬跳時間3) -> 0.45 | M18: =IF(协调曲线图!$S$22="是，LCO绘图",IF((k0three/((POWER($A18,alfa03))-1)*(t0three/beta03))>Lco瞬跳時間3,k0three/((POWER($A18,alfa03))-1)*(t0three/beta03),Lco瞬跳時間3)," ") -> 0.86357158 | N18: =IF(Isthree*$A18>=瞬跳電流3,瞬跳電流3,Isthree*$A18)/(covb3/covt3) -> 1540 | O18: =IF(Is0three*$A18>=Lco瞬跳電流3,Lco瞬跳電流3,Is0three*$A18)/(covb3/covt3) -> 150 | Q18: =IF((kfour/((POWER($A18,alfa4))-1)*(tfour/beta4))>瞬跳時間4,kfour/((POWER($A18,alfa4))-1)*(tfour/beta4),瞬跳時間4) -> 0.65 | R18: =IF(协调曲线图!$S$29="是，LCO绘图",IF((k0four/((POWER($A18,alfa04))-1)*(t0four/beta04))>Lco瞬跳時間4,k0four/((POWER($A18,alfa04))-1)*(t0four/beta04),Lco瞬跳時間4)," ") -> 1.0554764 | S18: =IF(Isfour*$A18>=瞬跳電流4,瞬跳電流4,Isfour*$A18)/(covb4/covt4) -> 2420 | T18: =IF(Is0four*$A18>=Lco瞬跳電流4,Lco瞬跳電流4,Is0four*$A18)/(covb4/covt4) -> 150 | V18: =IF((kfive/((POWER($A18,alfa5))-1)*(tfive/beta5))>瞬跳時間5,kfive/((POWER($A18,alfa5))-1)*(tfive/beta5),瞬跳時間5) -> 0.85 | W18: =IF(协调曲线图!$S$36="是，LCO绘图",IF((k0five/((POWER($A18,alfa05))-1)*(t0five/beta05))>Lco瞬跳時間5,k0five/((POWER($A18,alfa05))-1)*(t0five/beta05),Lco瞬跳時間5)," ") -> 1.2473812 | X18: =IF(Isfive*$A18>=瞬跳電流5,瞬跳電流5,Isfive*$A18)/(covb5/covt5) -> 3000 | Y18: =IF(Is0five*$A18>=Lco瞬跳電流5,Lco瞬跳電流5,Is0five*$A18)/(covb5/covt5) -> 150 | AA18: =IF((ksix/((POWER($A18,alfa6))-1)*(tsix/beta6))>瞬跳時間6,ksix/((POWER($A18,alfa6))-1)*(tsix/beta6),瞬跳時間6) -> 1.05 | AB18: =IF(协调曲线图!$S$43="是，LCO绘图",IF((k0six/((POWER($A18,alfa06))-1)*(t0six/beta06))>Lco瞬跳時間6,k0six/((POWER($A18,alfa06))-1)*(t0six/beta06),Lco瞬跳時間6)," ") -> 1.5352384 | AC18: =IF(Issix*$A18>=瞬跳電流6,瞬跳電流6,Issix*$A18)/(covb6/covt6) -> 5000 | AD18: =IF(Is0six*$A18>=Lco瞬跳電流6,Lco瞬跳電流6,Is0six*$A18)/(covb6/covt6) -> 300
A19: 12 | B19: =IF((kone/((POWER($A19,alfa1))-1)*(tone/beta1))>瞬跳時間1,kone/((POWER($A19,alfa1))-1)*(tone/beta1),瞬跳時間1) -> 0.092511347 | C19: =IF(协调曲线图!$S$8="是，LCO绘图",IF((k0one/((POWER($A19,alfa01))-1)*(t0one/beta01))>Lco瞬跳時間1,k0one/((POWER($A19,alfa01))-1)*(t0one/beta01),Lco瞬跳時間1)," ") -> 0.46255674 | D19: =IF(Isone*$A19>=瞬跳電流1,瞬跳電流1,Isone*$A19)/(covb1/covt1) -> 384 | E19: =IF(Is0one*$A19>=Lco瞬跳電流1,Lco瞬跳電流1,Is0one*$A19)/(covb1/covt1) -> 150 | G19: =IF((ktwo/((POWER($A19,alfa2))-1)*(ttwo/beta2))>瞬跳時間2,ktwo/((POWER($A19,alfa2))-1)*(ttwo/beta2),瞬跳時間2) -> 0.25 | H19: =IF(协调曲线图!$S$15="是，LCO绘图",IF((k0two/((POWER($A19,alfa02))-1)*(t0two/beta02))>Lco瞬跳時間2,k0two/((POWER($A19,alfa02))-1)*(t0two/beta02),Lco瞬跳時間2)," ") -> 0.64757943 | I19: =IF(Istwo*$A19>=瞬跳電流2,瞬跳電流2,Istwo*$A19)/(covb2/covt2) -> 720 | J19: =IF(Is0two*$A19>=Lco瞬跳電流2,Lco瞬跳電流2,Is0two*$A19)/(covb2/covt2) -> 150 | L19: =IF((kthree/((POWER($A19,alfa3))-1)*(tthree/beta3))>瞬跳時間3,kthree/((POWER($A19,alfa3))-1)*(tthree/beta3),瞬跳時間3) -> 0.45 | M19: =IF(协调曲线图!$S$22="是，LCO绘图",IF((k0three/((POWER($A19,alfa03))-1)*(t0three/beta03))>Lco瞬跳時間3,k0three/((POWER($A19,alfa03))-1)*(t0three/beta03),Lco瞬跳時間3)," ") -> 0.83260213 | N19: =IF(Isthree*$A19>=瞬跳電流3,瞬跳電流3,Isthree*$A19)/(covb3/covt3) -> 1680 | O19: =IF(Is0three*$A19>=Lco瞬跳電流3,Lco瞬跳電流3,Is0three*$A19)/(covb3/covt3) -> 150 | Q19: =IF((kfour/((POWER($A19,alfa4))-1)*(tfour/beta4))>瞬跳時間4,kfour/((POWER($A19,alfa4))-1)*(tfour/beta4),瞬跳時間4) -> 0.65 | R19: =IF(协调曲线图!$S$29="是，LCO绘图",IF((k0four/((POWER($A19,alfa04))-1)*(t0four/beta04))>Lco瞬跳時間4,k0four/((POWER($A19,alfa04))-1)*(t0four/beta04),Lco瞬跳時間4)," ") -> 1.0176248 | S19: =IF(Isfour*$A19>=瞬跳電流4,瞬跳電流4,Isfour*$A19)/(covb4/covt4) -> 2500 | T19: =IF(Is0four*$A19>=Lco瞬跳電流4,Lco瞬跳電流4,Is0four*$A19)/(covb4/covt4) -> 150 | V19: =IF((kfive/((POWER($A19,alfa5))-1)*(tfive/beta5))>瞬跳時間5,kfive/((POWER($A19,alfa5))-1)*(tfive/beta5),瞬跳時間5) -> 0.85 | W19: =IF(协调曲线图!$S$36="是，LCO绘图",IF((k0five/((POWER($A19,alfa05))-1)*(t0five/beta05))>Lco瞬跳時間5,k0five/((POWER($A19,alfa05))-1)*(t0five/beta05),Lco瞬跳時間5)," ") -> 1.2026475 | X19: =IF(Isfive*$A19>=瞬跳電流5,瞬跳電流5,Isfive*$A19)/(covb5/covt5) -> 3000 | Y19: =IF(Is0five*$A19>=Lco瞬跳電流5,Lco瞬跳電流5,Is0five*$A19)/(covb5/covt5) -> 150 | AA19: =IF((ksix/((POWER($A19,alfa6))-1)*(tsix/beta6))>瞬跳時間6,ksix/((POWER($A19,alfa6))-1)*(tsix/beta6),瞬跳時間6) -> 1.05 | AB19: =IF(协调曲线图!$S$43="是，LCO绘图",IF((k0six/((POWER($A19,alfa06))-1)*(t0six/beta06))>Lco瞬跳時間6,k0six/((POWER($A19,alfa06))-1)*(t0six/beta06),Lco瞬跳時間6)," ") -> 1.4801816 | AC19: =IF(Issix*$A19>=瞬跳電流6,瞬跳電流6,Issix*$A19)/(covb6/covt6) -> 5000 | AD19: =IF(Is0six*$A19>=Lco瞬跳電流6,Lco瞬跳電流6,Is0six*$A19)/(covb6/covt6) -> 300
... A206: 199 | B206: =IF((kone/((POWER($A206,alfa1))-1)*(tone/beta1))>瞬跳時間1,kone/((POWER($A206,alfa1))-1)*(tone/beta1),瞬跳時間1) -> 0.05 | C206: =IF(协调曲线图!$S$8="是，LCO绘图",IF((k0one/((POWER($A206,alfa01))-1)*(t0one/beta01))>Lco瞬跳時間1,k0one/((POWER($A206,alfa01))-1)*(t0one/beta01),Lco瞬跳時間1)," ") -> 0.21105389 | D206: =IF(Isone*$A206>=瞬跳電流1,瞬跳電流1,Isone*$A206)/(covb1/covt1) -> 1050 | E206: =IF(Is0one*$A206>=Lco瞬跳電流1,Lco瞬跳電流1,Is0one*$A206)/(covb1/covt1) -> 150 | G206: =IF((ktwo/((POWER($A206,alfa2))-1)*(ttwo/beta2))>瞬跳時間2,ktwo/((POWER($A206,alfa2))-1)*(ttwo/beta2),瞬跳時間2) -> 0.25 | H206: =IF(协调曲线图!$S$15="是，LCO绘图",IF((k0two/((POWER($A206,alfa02))-1)*(t0two/beta02))>Lco瞬跳時間2,k0two/((POWER($A206,alfa02))-1)*(t0two/beta02),Lco瞬跳時間2)," ") -> 0.29547545 | I206: =IF(Istwo*$A206>=瞬跳電流2,瞬跳電流2,Istwo*$A206)/(covb2/covt2) -> 1500 | J206: =IF(Is0two*$A206>=Lco瞬跳電流2,Lco瞬跳電流2,Is0two*$A206)/(covb2/covt2) -> 150 | L206: =IF((kthree/((POWER($A206,alfa3))-1)*(tthree/beta3))>瞬跳時間3,kthree/((POWER($A206,alfa3))-1)*(tthree/beta3),瞬跳時間3) -> 0.45 | M206: =IF(协调曲线图!$S$22="是，LCO绘图",IF((k0three/((POWER($A206,alfa03))-1)*(t0three/beta03))>Lco瞬跳時間3,k0three/((POWER($A206,alfa03))-1)*(t0three/beta03),Lco瞬跳時間3)," ") -> 0.37989701 | N206: =IF(Isthree*$A206>=瞬跳電流3,瞬跳電流3,Isthree*$A206)/(covb3/covt3) -> 2000 | O206: =IF(Is0three*$A206>=Lco瞬跳電流3,Lco瞬跳電流3,Is0three*$A206)/(covb3/covt3) -> 150 | Q206: =IF((kfour/((POWER($A206,alfa4))-1)*(tfour/beta4))>瞬跳時間4,kfour/((POWER($A206,alfa4))-1)*(tfour/beta4),瞬跳時間4) -> 0.65 | R206: =IF(协调曲线图!$S$29="是，LCO绘图",IF((k0four/((POWER($A206,alfa04))-1)*(t0four/beta04))>Lco瞬跳時間4,k0four/((POWER($A206,alfa04))-1)*(t0four/beta04),Lco瞬跳時間4)," ") -> 0.46431857 | S206: =IF(Isfour*$A206>=瞬跳電流4,瞬跳電流4,Isfour*$A206)/(covb4/covt4) -> 2500 | T206: =IF(Is0four*$A206>=Lco瞬跳電流4,Lco瞬跳電流4,Is0four*$A206)/(covb4/covt4) -> 150 | V206: =IF((kfive/((POWER($A206,alfa5))-1)*(tfive/beta5))>瞬跳時間5,kfive/((POWER($A206,alfa5))-1)*(tfive/beta5),瞬跳時間5) -> 0.85 | W206: =IF(协调曲线图!$S$36="是，LCO绘图",IF((k0five/((POWER($A206,alfa05))-1)*(t0five/beta05))>Lco瞬跳時間5,k0five/((POWER($A206,alfa05))-1)*(t0five/beta05),Lco瞬跳時間5)," ") -> 0.54874013 | X206: =IF(Isfive*$A206>=瞬跳電流5,瞬跳電流5,Isfive*$A206)/(covb5/covt5) -> 3000 | Y206: =IF(Is0five*$A206>=Lco瞬跳電流5,Lco瞬跳電流5,Is0five*$A206)/(covb5/covt5) -> 150 | AA206: =IF((ksix/((POWER($A206,alfa6))-1)*(tsix/beta6))>瞬跳時間6,ksix/((POWER($A206,alfa6))-1)*(tsix/beta6),瞬跳時間6) -> 1.05 | AB206: =IF(协调曲线图!$S$43="是，LCO绘图",IF((k0six/((POWER($A206,alfa06))-1)*(t0six/beta06))>Lco瞬跳時間6,k0six/((POWER($A206,alfa06))-1)*(t0six/beta06),Lco瞬跳時間6)," ") -> 0.67537246 | AC206: =IF(Issix*$A206>=瞬跳電流6,瞬跳電流6,Issix*$A206)/(covb6/covt6) -> 5000 | AD206: =IF(Is0six*$A206>=Lco瞬跳電流6,Lco瞬跳電流6,Is0six*$A206)/(covb6/covt6) -> 300
A207: 200 | B207: =IF((kone/((POWER($A207,alfa1))-1)*(tone/beta1))>瞬跳時間1,kone/((POWER($A207,alfa1))-1)*(tone/beta1),瞬跳時間1) -> 0.05 | C207: =IF(协调曲线图!$S$8="是，LCO绘图",IF((k0one/((POWER($A207,alfa01))-1)*(t0one/beta01))>Lco瞬跳時間1,k0one/((POWER($A207,alfa01))-1)*(t0one/beta01),Lco瞬跳時間1)," ") -> 0.21084347 | D207: =IF(AND(Isone*$A207>=瞬跳電流1,B207>瞬跳時間1),瞬跳電流1,Isone*$A207)/(covb1/covt1) -> 6400 | E207: =IF(AND(Is0one*$A207>=Lco瞬跳電流1,C207>=Lco瞬跳時間1),Is0one*$A207,Lco瞬跳電流1)/(covb1/covt1) -> 3000 | G207: =IF((ktwo/((POWER($A207,alfa2))-1)*(ttwo/beta2))>瞬跳時間2,ktwo/((POWER($A207,alfa2))-1)*(ttwo/beta2),瞬跳時間2) -> 0.25 | H207: =IF(协调曲线图!$S$15="是，LCO绘图",IF((k0two/((POWER($A207,alfa02))-1)*(t0two/beta02))>Lco瞬跳時間2,k0two/((POWER($A207,alfa02))-1)*(t0two/beta02),Lco瞬跳時間2)," ") -> 0.29518086 | I207: =IF(AND(Istwo*$A207>=瞬跳電流2,G207>瞬跳時間2),瞬跳電流2,Istwo*$A207)/(covb2/covt2) -> 12000 | J207: =IF(AND(Is0two*$A207>=Lco瞬跳電流2,H207>=Lco瞬跳時間2),Is0two*$A207,Lco瞬跳電流2)/(covb2/covt2) -> 3000 | L207: =IF((kthree/((POWER($A207,alfa3))-1)*(tthree/beta3))>瞬跳時間3,kthree/((POWER($A207,alfa3))-1)*(tthree/beta3),瞬跳時間3) -> 0.45 | M207: =IF(协调曲线图!$S$22="是，LCO绘图",IF((k0three/((POWER($A207,alfa03))-1)*(t0three/beta03))>Lco瞬跳時間3,k0three/((POWER($A207,alfa03))-1)*(t0three/beta03),Lco瞬跳時間3)," ") -> 0.37951824 | N207: =IF(AND(Isthree*$A207>=瞬跳電流3,L207>瞬跳時間3),瞬跳電流3,Isthree*$A207)/(covb3/covt3) -> 28000 | O207: =IF(AND(Is0three*$A207>=Lco瞬跳電流3,M207>=Lco瞬跳時間3),Is0three*$A207,Lco瞬跳電流3)/(covb3/covt3) -> 3000 | Q207: =IF((kfour/((POWER($A207,alfa4))-1)*(tfour/beta4))>瞬跳時間4,kfour/((POWER($A207,alfa4))-1)*(tfour/beta4),瞬跳時間4) -> 0.65 | R207: =IF(协调曲线图!$S$29="是，LCO绘图",IF((k0four/((POWER($A207,alfa04))-1)*(t0four/beta04))>Lco瞬跳時間4,k0four/((POWER($A207,alfa04))-1)*(t0four/beta04),Lco瞬跳時間4)," ") -> 0.46385563 | S207: =IF(AND(Isfour*$A207>=瞬跳電流4,Q207>瞬跳時間4),瞬跳電流4,Isfour*$A207)/(covb4/covt4) -> 44000 | T207: =IF(AND(Is0four*$A207>=Lco瞬跳電流4,R207>=Lco瞬跳時間4),Is0four*$A207,Lco瞬跳電流4)/(covb4/covt4) -> 3000 | V207: =IF((kfive/((POWER($A207,alfa5))-1)*(tfive/beta5))>瞬跳時間5,kfive/((POWER($A207,alfa5))-1)*(tfive/beta5),瞬跳時間5) -> 0.85 | W207: =IF(协调曲线图!$S$36="是，LCO绘图",IF((k0five/((POWER($A207,alfa05))-1)*(t0five/beta05))>Lco瞬跳時間5,k0five/((POWER($A207,alfa05))-1)*(t0five/beta05),Lco瞬跳時間5)," ") -> 0.54819302 | X207: =IF(AND(Isfive*$A207>=瞬跳電流5,V207>瞬跳時間5),瞬跳電流5,Isfive*$A207)/(covb5/covt5) -> 76000 | Y207: =IF(AND(Is0five*$A207>=Lco瞬跳電流5,W207>=Lco瞬跳時間5),Is0five*$A207,Lco瞬跳電流5)/(covb5/covt5) -> 3000 | AA207: =IF((ksix/((POWER($A207,alfa6))-1)*(tsix/beta6))>瞬跳時間6,ksix/((POWER($A207,alfa6))-1)*(tsix/beta6),瞬跳時間6) -> 1.05 | AB207: =IF(协调曲线图!$S$43="是，LCO绘图",IF((k0six/((POWER($A207,alfa06))-1)*(t0six/beta06))>Lco瞬跳時間6,k0six/((POWER($A207,alfa06))-1)*(t0six/beta06),Lco瞬跳時間6)," ") -> 0.6746991 | AC207: =IF(AND(Issix*$A207>=瞬跳電流6,AA207>瞬跳時間6),瞬跳電流6,Issix*$A207)/(covb6/covt6) -> 100000 | AD207: =IF(AND(Is0six*$A207>=Lco瞬跳電流6,AB207>=Lco瞬跳時間6),Is0six*$A207,Lco瞬跳電流6)/(covb6/covt6) -> 6000

Sheet CO表單
A1: 電譯01
C2: M/G微處理型保護電譯CO曲線
C3: 曲線名稱： | E3: =coname1 -> 6kvC1变馈线
C4: 預定負載為 Load＝ | F4: =cokva1 -> 2000 | G4: KVA
C5: 基準側電壓： Vb＝ | F5: =covb1 -> 11.4 | G5: KV
C6: 換算側電壓： Vt＝ | F6: =covt1 -> 11.4 | G6: KV
C7: 過載百分比： L%＝ | F7: =L百分1 -> 100 | G7: %
C8: 變流比： CT比＝ | F8: =CONCATENATE(一次側1,"/",二次側1) -> 150/5 | H8: =CONCATENATE("="," ",一次側1," / ",二次側1," ="," ",一次側1/二次側1) -> = 150 / 5 = 30
C9: 計算分接頭標置： Tc＝ | F9: =CONCATENATE(_Tc1,"In") -> 0.68In | G9: =CONCATENATE("=",_Tc1*二次側1,"A") -> =3.4A
C10: 選用分接頭標置： Ts＝ | F10: =CONCATENATE(ROUND(_Ts1/一次側1,2),"In") -> 0.21In | G10: =CONCATENATE("=",ROUND(_Ts1*二次側1/一次側1,2),"A") -> =1.07A
C11: 換算一次側設定電流： Is＝ | F11: =Isone -> 32 | G11: A | H11: =CONCATENATE("= ",_Ts1/一次側1," x ",一次側1," = ",Isone) -> = 0.213333333333333 x 150 = 32
C12: 時間標置： t>＝ | F12: =Lever1 -> 0.1 | H12: =CONCATENATE("曲線 Lever = ",Lever1) -> 曲線 Lever = 0.1
C13: 二次側瞬跳電流標置： IIT＝ | F13: =CONCATENATE(ROUND(F15/(一次側1/二次側1),2),"A") -> 35A
C14: 一次側最小動作電流：Imin＝ | F14: =1.2*Isone -> 38.4 | G14: A | H14: =CONCATENATE("= 120% Is = ",F14,"A") -> = 120% Is = 38.4A
C15: 一次側瞬跳動作電流： I>>＝ | F15: =IF(輸入瞬跳電流1=" ",10*Isone,輸入瞬跳電流1) -> 1050 | G15: A | H15: =CONCATENATE("基準值=10倍Is=",10*Isone,";設定值=",輸入瞬跳電流1) -> 基準值=10倍Is=320;設定值=1050
C16: 選用電驛廠牌型號： | F16: =协调曲线图!S9 -> SEPAM S20
C17: 變流比CT＝ | E17: =CONCATENATE(一次側1,"/",二次側1) -> 150/5 | F17: 一次側額定電流In＝ | H17: =CONCATENATE(一次側1,"A") -> 150A | I17: 時間標置 t>＝ | K17: =Lever1 -> 0.1
C18: 二次分接頭I>＝ | E18: =CONCATENATE(F10,G10) -> 0.21In=1.07A | F18: 一次側設定電流Is＝ | H18: =CONCATENATE(Isone,"A") -> 32A | I18: 曲線TYPE＝ | K18: =协调曲线图!S7 -> SIT
C19: 二次瞬跳電流標置IIT＝ | E19: =F13 -> 35A | F19: 一次側瞬跳電流I>>＝ | H19: =CONCATENATE(F15,"A") -> 1050A
C20: 分 接 頭 電流倍數 | D20: 過 電 流 值 (A) | H20: 動 作 時 間 (秒)
D21: 基 準 側 | F21: 換 算 側
C22: 2 | D22: =F22/(covb1/covt1) -> 64 | F22: =Isone*$C22 -> 64 | H22: =曲線Lever計算!B9 -> 0.33767768
C23: 3 | D23: =F23/(covb1/covt1) -> 96 | F23: =Isone*$C23 -> 96 | H23: =曲線Lever計算!B10 -> 0.21218623
C24: 4 | D24: =F24/(covb1/covt1) -> 128 | F24: =Isone*$C24 -> 128 | H24: =曲線Lever計算!B11 -> 0.16766856
C25: 5 | D25: =F25/(covb1/covt1) -> 160 | F25: =Isone*$C25 -> 160 | H25: =曲線Lever計算!B12 -> 0.14409832
C26: 6 | D26: =F26/(covb1/covt1) -> 192 | F26: =Isone*$C26 -> 192 | H26: =曲線Lever計算!B13 -> 0.1291984
C27: 7 | D27: =F27/(covb1/covt1) -> 224 | F27: =Isone*$C27 -> 224 | H27: =曲線Lever計算!B14 -> 0.11877921
C28: 8 | D28: =F28/(covb1/covt1) -> 256 | F28: =Isone*$C28 -> 256 | H28: =曲線Lever計算!B15 -> 0.11100248
C29: 9 | D29: =F29/(covb1/covt1) -> 288 | F29: =Isone*$C29 -> 288 | H29: =曲線Lever計算!B16 -> 0.10492761
C30: 10 | D30: =F30/(covb1/covt1) -> 320 | F30: =Isone*$C30 -> 320 | H30: =曲線Lever計算!B17 -> 0.10002016
C31: I>> | D31: =F31/(covb1/covt1) -> 1050 | F31: =F15 -> 1050 | H31: =IF(瞬跳時間1=" ",0.025,瞬跳時間1) -> 0.05
C33: 實際設定值如下：
C34: 形 式 | D34: =F16 -> SEPAM S20 | F34: 備 註 | H34: Tc＝ | I34: Load x (L%/100)
C35: In | D35: =CONCATENATE(一次側1,"A") -> 150A | F35: CT一次側額定值 | I35: √3 x Vt x CT一次測
C36: Is | D36: =IF(AND(0.1<=Isone/一次側1,Isone/一次側1<=2.4),CONCATENATE(Isone,"A"),"ERROR!") -> 32A | F36: 0.1～2.4 In | H36: Imin＝ | I36: 1.2 x Is
C37: t> | D37: =Lever1 -> 0.1 | F37: 0.1～12.5s在10Is | H37: Is＝ | I37: Ts x CT一次測
C38: I>> | D38: =IF(AND(0.1<=F15/一次側1,F15/一次側1<=24),CONCATENATE(F15,"A"),"ERROR!") -> 1050A | F38: 0.1～24In | H38: IIT＝ | I38: I>>
C39: t>> | D39: =瞬跳時間1 -> 0.05 | F39: 0s(Inst.),50ms～300s | I39: CT比值
C40: CURVE | D40: =K18 -> SIT
A45: 電譯02
...

Sheet LCO表單
A1: 電譯01
C2: M/G微處理型保護電譯LCO曲線
C3: 曲線名稱： | E3: =CONCATENATE("Lco-",coname1) -> Lco-6kvC1变馈线
C4: 預定負載為 Load＝ | F4: =CO表單!F4 -> 2000 | G4: KVA
C5: 基準側電壓： Vb＝ | F5: =CO表單!F5 -> 11.4 | G5: KV
C6: 換算側電壓： Vt＝ | F6: =CO表單!F6 -> 11.4 | G6: KV
C7: 過載百分比： L%＝ | F7: =CO表單!F7 -> 100 | G7: %
C8: 變流比： CT比＝ | F8: =CO表單!F8 -> 150/5 | H8: =CO表單!H8 -> = 150 / 5 = 30
C9: 計算分接頭標置： Tc0＝
C10: 選用分接頭標置： Ts0＝ | F10: =IF(_Ts01=" ",CONCATENATE(0.1,"In"),CONCATENATE(_Ts01,"In")) -> 0.1In | G10: =IF(_Ts01=" ",CONCATENATE("=",0.1*二次側1,"A"),CONCATENATE("=",_Ts01*二次側1,"A")) -> =0.5A | H10: =CONCATENATE("一般固定選用0.1In;手動設定為",_Ts01,"In") -> 一般固定選用0.1In;手動設定為0.1In
C11: 換算一次側設定電流： Is0＝ | F11: =Is0one -> 15 | G11: A
C12: 時間標置： t0>＝ | F12: =Lever1 -> 0.1
C13: 二次側瞬跳電流標置： IIT0＝ | F13: =CONCATENATE(_IIT01,"In") -> 1In | G13: =CONCATENATE("=",_IIT01*二次側1,"A") -> =5A | H13: =CONCATENATE("一般固定選用1In;手動設定為",_IIT01,"In") -> 一般固定選用1In;手動設定為1In
C14: 一次側最小動作電流：I0min＝ | F14: =1.2*Is0one -> 18 | G14: A | H14: 120%Is0
C15: 一次側瞬跳動作電流： I0>>＝ | F15: =Lco瞬跳電流1 -> 150 | G15: A | H15: IIT0 x CT一次測
C16: 選用電驛廠牌型號： | F16: =CO表單!F16 -> SEPAM S20
C17: 變流比CT＝ | E17: =CO表單!E17 -> 150/5 | F17: 一次側額定電流In＝ | H17: =CONCATENATE(一次側1,"A") -> 150A | I17: 時間標置 t0>＝ | K17: =IF(t0one=" ",Lever1,t0one) -> 0.5
C18: 分接頭I0>＝ | E18: =_Ts01 -> 0.1 | F18: In | G18: Is0>＝ | H18: =CONCATENATE(Is0one,"A") -> 15A | I18: 曲線TYPE＝ | K18: =协调曲线图!W9 -> SIT
C19: 分接頭I0>>＝ | E19: =_IIT01 -> 1 | F19: In | G19: I0>>＝ | H19: =CONCATENATE(F15,"A") -> 150A
C20: 分 接 頭 電流倍數 | D20: 過 電 流 值 (A) | H20: 動 作 時 間 (秒)
D21: 基 準 側 | F21: 換 算 側
C22: 2 | D22: =F22/(covb1/covt1) -> 30 | F22: =Is0one*$C22 -> 30 | H22: =曲線Lever計算!C9 -> 1.6883884
C23: 3 | D23: =F23/(covb1/covt1) -> 45 | F23: =Is0one*$C23 -> 45 | H23: =曲線Lever計算!C10 -> 1.0609311
C24: 4 | D24: =F24/(covb1/covt1) -> 60 | F24: =Is0one*$C24 -> 60 | H24: =曲線Lever計算!C11 -> 0.83834278
C25: 5 | D25: =F25/(covb1/covt1) -> 75 | F25: =Is0one*$C25 -> 75 | H25: =曲線Lever計算!C12 -> 0.72049159
C26: 6 | D26: =F26/(covb1/covt1) -> 90 | F26: =Is0one*$C26 -> 90 | H26: =曲線Lever計算!C13 -> 0.645992
C27: 7 | D27: =F27/(covb1/covt1) -> 105 | F27: =Is0one*$C27 -> 105 | H27: =曲線Lever計算!C14 -> 0.59389603
C28: 8 | D28: =F28/(covb1/covt1) -> 120 | F28: =Is0one*$C28 -> 120 | H28: =曲線Lever計算!C15 -> 0.55501239
C29: 9 | D29: =F29/(covb1/covt1) -> 135 | F29: =Is0one*$C29 -> 135 | H29: =曲線Lever計算!C16 -> 0.52463804
C30: 10 | D30: =F30/(covb1/covt1) -> 150 | F30: =Is0one*$C30 -> 150 | H30: =曲線Lever計算!C17 -> 0.50010078
C31: I>> | D31: =F31/(covb1/covt1) -> 150 | F31: =F15 -> 150 | H31: =IF(Lco瞬跳時間1=" ",0.025,Lco瞬跳時間1) -> 0.05
C33: 實際設定值如下：
C34: 形 式 | D34: =F16 -> SEPAM S20 | F34: 備 註 | H34: Tc0＝ | I34: Load x (L%/100)
C35: In0 | D35: =CONCATENATE(一次側1,"A") -> 150A | F35: CT一次側額定值 | I35: √3 x Vt x CT一次測
C36: Is0 | D36: =IF(AND(0.1<=Is0one/一次側1,Is0one/一次側1<=1),H18,"ERROR!") -> 15A | F36: 0.1～1 In | H36: I0min＝ | I36: 1.2 x Is0
C37: t0> | D37: =Lever1 -> 0.1 | F37: 0.1～12.5s在10Is | H37: Is0＝ | I37: Ts0 x CT一次測
C38: I0>> | D38: =IF(AND(0.1<=F15/一次側1,F15/一次側1<=15),H19,"ERROR!") -> 150A | F38: 0.1～15In | H38: IIT0＝ | I38: I0>>
C39: t0>> | D39: 0.05 | F39: 0s(Inst.),50ms~300s | I39: CT一次側
C40: CURVE | D40: =K18 -> SIT
A45: 電譯02
...

Sheet 协调曲线图
A1: 1 | B1: 2 | C1: 3 | D1: 4 | E1: 5 | F1: 6 | G1: 7 | H1: 8 | I1: 9 | J1: 10 | K1: 11 | L1: 12 | M1: 13 | N1: 14 | O1: 15 | P1: 16 | Q1: 17 | R1: 18 | S1: 19 | T1: 20 | U1: 21 | V1: 22 | W1: 23 | X1: 24 | Y1: 25
B2: 工 程 名 称: | AJ2: 請選擇變壓器接法
AJ3: Δ—Ｙ中性點接地 (x 0.58)
R4: 设备1 | S4: 曲线名称 | T4: 预定负载 | U4: Vb(基准) | V4: Vt(换算) | W4: L% | X4: 一次侧 | Y4: 二次侧 | AJ4: Δ—Ｙ非接地 (x 0.87)
S5: 6kvC1变馈线 | T5: 2000 | U5: =covt1 -> 11.4 | V5: 11.4 | W5: 100 | X5: 150 | Y5: 5 | AJ5: Δ—Δ或Ｙ—Ｙ (x 1.0)
S6: CO曲线 | T6: t> | U6: Tc | V6: I> | W6: I>> | X6: t>> | Y6: I0>
S7: SIT | T7: 0.1 | U7: =_Ts1 -> 32 | V7: 32 | W7: 1050 | X7: 0.05 | Y7: 0.1
S8: 是，LCO绘图 | W8: LCO曲线 | X8: t0> | Y8: I0>>
S9: SEPAM S20 | W9: SIT | X9: 0.5 | Y9: 1
R11: 设备2 | S11: 曲线名称 | T11: 预定负载 | U11: Vb(基准) | V11: Vt(换算) | W11: L% | X11: 一次侧 | Y11: 二次侧
S12: 6kvC1变母联 | T12: 2500 | U12: =covt2 -> 11.4 | V12: 11.4 | W12: 100 | X12: 150 | Y12: 5
S13: CO曲线 | T13: t> | U13: Tc | V13: I> | W13: I>> | X13: t>> | Y13: I0>
S14: EIT | T14: 0.1 | U14: =_Ts2 -> 60 | V14: 60 | W14: 1500 | X14: 0.25 | Y14: 0.1
S15: 是，LCO绘图 | W15: LCO曲线 | X15: t0> | Y15: I0>>
S16: SEPAM S40 | W16: SIT | X16: 0.7 | Y16: 1
R18: 设备3 | S18: 曲线名称 | T18: 预定负载 | U18: Vb(基准) | V18: Vt(换算) | W18: L% | X18: 一次侧 | Y18: 二次侧
S19: 6kvC1变进线 | T19: 3000 | U19: =covt3 -> 11.4 | V19: 11.4 | W19: 100 | X19: 150 | Y19: 5
S20: CO曲线 | T20: t> | U20: Tc | V20: I> | W20: I>> | X20: t>> | Y20: I0> | AJ20: EIT | AL20: 请输入品牌型号
S21: EIT | T21: 0.1 | U21: =_Ts3 -> 140 | V21: 140 | W21: 2000 | X21: 0.45 | Y21: 0.1 | AJ21: SIT | AL21: SEPAM S20
S22: 是，LCO绘图 | W22: LCO曲线 | X22: t0> | Y22: I0>> | AJ22: VIT | AL22: SEPAM S40
S23: SEPAM S80 | W23: SIT | X23: 0.9 | Y23: 1 | AJ23: UIT | AL23: SEPAM S80
AJ24: LCO是否绘图？ | AL24: SEPAM G40
R25: 设备4 | S25: 曲线名称 | T25: 预定负载 | U25: Vb(基准) | V25: Vt(换算) | W25: L% | X25: 一次侧 | Y25: 二次侧 | AJ25: 是，LCO绘图 | AL25: SEPAM T87
S26: 20Kv馈线 | T26: 4000 | U26: =covt4 -> 11.4 | V26: 11.4 | W26: 100 | X26: 150 | Y26: 5 | AJ26: 否，LCO不绘图 | AL26: SEPAM M87
S27: CO曲线 | T27: t> | U27: Tc | V27: I> | W27: I>> | X27: t>> | Y27: I0>
S28: EIT | T28: 0.1 | U28: =_Ts4 -> 220 | V28: 220 | W28: 2500 | X28: 0.65 | Y28: 0.1
S29: 是，LCO绘图 | W29: LCO曲线 | X29: t0> | Y29: I0>>
S30: SEPAM G40 | W30: SIT | X30: 1.1 | Y30: 1
R32: 设备5 | S32: 曲线名称 | T32: 预定负载 | U32: Vb(基准) | V32: Vt(换算) | W32: L% | X32: 一次侧 | Y32: 二次侧
S33: 20Kv母联 | T33: 4500 | U33: =covt5 -> 11.4 | V33: 11.4 | W33: 100 | X33: 150 | Y33: 5
S34: CO曲线 | T34: t> | U34: Tc | V34: I> | W34: I>> | X34: t>> | Y34: I0>
S35: EIT | T35: 0.1 | U35: =_Ts5 -> 380 | V35: 380 | W35: 3000 | X35: 0.85 | Y35: 0.1
S36: 是，LCO绘图 | W36: LCO曲线 | X36: t0> | Y36: I0>>
S37: SEPAM T87 | W37: SIT | X37: 1.3 | Y37: 1
R39: 设备6 | S39: 曲线名称 | T39: 预定负载 | U39: Vb(基准) | V39: Vt(换算) | W39: L% | X39: 一次侧 | Y39: 二次侧
S40: 20Kv进线 | T40: 6000 | U40: =covt6 -> 11.4 | V40: 11.4 | W40: 100 | X40: 150 | Y40: 5
S41: CO曲线 | T41: t> | U41: Tc | V41: I> | W41: I>> | X41: t>> | Y41: I0>
S42: EIT | T42: 0.1 | U42: =_Ts6 -> 500 | V42: 500 | W42: 5000 | X42: 1.05 | Y42: 0.2
S43: 是，LCO绘图 | W43: LCO曲线 | X43: t0> | Y43: I0>>
S44: SEPAM M87 | W44: SIT | X44: 1.6 | Y44: 2
...

Sheet 曲线
